BEGIN:VCALENDAR
VERSION:2.0
PRODID:-//Seelsorgeeinheit ABBA - ECPv6.15.11//NONSGML v1.0//EN
CALSCALE:GREGORIAN
METHOD:PUBLISH
X-WR-CALNAME:Seelsorgeeinheit ABBA
X-ORIGINAL-URL:https://se-abba.de
X-WR-CALDESC:Veranstaltungen für Seelsorgeeinheit ABBA
REFRESH-INTERVAL;VALUE=DURATION:PT1H
X-Robots-Tag:noindex
X-PUBLISHED-TTL:PT1H
BEGIN:VTIMEZONE
TZID:Europe/Berlin
BEGIN:DAYLIGHT
TZOFFSETFROM:+0100
TZOFFSETTO:+0200
TZNAME:CEST
DTSTART:20240331T010000
END:DAYLIGHT
BEGIN:STANDARD
TZOFFSETFROM:+0200
TZOFFSETTO:+0100
TZNAME:CET
DTSTART:20241027T010000
END:STANDARD
BEGIN:DAYLIGHT
TZOFFSETFROM:+0100
TZOFFSETTO:+0200
TZNAME:CEST
DTSTART:20250330T010000
END:DAYLIGHT
BEGIN:STANDARD
TZOFFSETFROM:+0200
TZOFFSETTO:+0100
TZNAME:CET
DTSTART:20251026T010000
END:STANDARD
BEGIN:DAYLIGHT
TZOFFSETFROM:+0100
TZOFFSETTO:+0200
TZNAME:CEST
DTSTART:20260329T010000
END:DAYLIGHT
BEGIN:STANDARD
TZOFFSETFROM:+0200
TZOFFSETTO:+0100
TZNAME:CET
DTSTART:20261025T010000
END:STANDARD
END:VTIMEZONE
BEGIN:VEVENT
DTSTART;TZID=Europe/Berlin:20250405T150000
DTEND;TZID=Europe/Berlin:20250405T160000
DTSTAMP:20260422T041728
CREATED:20250328T105149Z
LAST-MODIFIED:20250328T105153Z
UID:10000259-1743865200-1743868800@se-abba.de
SUMMARY:Jugendkreuzweg in Bühlingen
DESCRIPTION:
URL:https://se-abba.de/termin/jugendkreuzweg-in-buehlingen/
LOCATION:St. Silvester Bühlingen
CATEGORIES:Gottesdienst
END:VEVENT
BEGIN:VEVENT
DTSTART;TZID=Europe/Berlin:20250404T183000
DTEND;TZID=Europe/Berlin:20250404T190000
DTSTAMP:20260422T041728
CREATED:20250321T092600Z
LAST-MODIFIED:20250321T092604Z
UID:10000258-1743791400-1743793200@se-abba.de
SUMMARY:Rosenkranz (Bühlingen)
DESCRIPTION:
URL:https://se-abba.de/termin/rosenkranz-buehlingen-14/
LOCATION:St. Silvester Bühlingen
CATEGORIES:Gottesdienst
END:VEVENT
BEGIN:VEVENT
DTSTART;TZID=Europe/Berlin:20250404T160000
DTEND;TZID=Europe/Berlin:20250404T170000
DTSTAMP:20260422T041728
CREATED:20250321T092529Z
LAST-MODIFIED:20250321T092529Z
UID:10000257-1743782400-1743786000@se-abba.de
SUMMARY:Eucharistische Anbetung (Bühlingen)
DESCRIPTION:
URL:https://se-abba.de/termin/eucharistische-anbetung-buehlingen/
LOCATION:St. Silvester Bühlingen
CATEGORIES:Gottesdienst
END:VEVENT
BEGIN:VEVENT
DTSTART;TZID=Europe/Berlin:20250329T183000
DTEND;TZID=Europe/Berlin:20250329T193000
DTSTAMP:20260422T041728
CREATED:20250321T091752Z
LAST-MODIFIED:20250321T091752Z
UID:10000242-1743273000-1743276600@se-abba.de
SUMMARY:Eucharistiefeier (Bühlingen)
DESCRIPTION:
URL:https://se-abba.de/termin/eucharistiefeier-buehlingen-8/
LOCATION:St. Silvester Bühlingen
CATEGORIES:Gottesdienst
END:VEVENT
BEGIN:VEVENT
DTSTART;TZID=Europe/Berlin:20250328T183000
DTEND;TZID=Europe/Berlin:20250328T190000
DTSTAMP:20260422T041728
CREATED:20250314T105600Z
LAST-MODIFIED:20250314T105605Z
UID:10000243-1743186600-1743188400@se-abba.de
SUMMARY:Rosenkranz (Bühlingen)
DESCRIPTION:
URL:https://se-abba.de/termin/rosenkranz-buehlingen-13/
LOCATION:St. Silvester Bühlingen
CATEGORIES:Gottesdienst
END:VEVENT
BEGIN:VEVENT
DTSTART;TZID=Europe/Berlin:20250323T103000
DTEND;TZID=Europe/Berlin:20250323T113000
DTSTAMP:20260422T041728
CREATED:20250314T104348Z
LAST-MODIFIED:20250314T104348Z
UID:10000136-1742725800-1742729400@se-abba.de
SUMMARY:Wortgottesfeier (Bühlingen)
DESCRIPTION:
URL:https://se-abba.de/termin/wortgottesfeier-buehlingen-2/
LOCATION:St. Silvester Bühlingen
CATEGORIES:Gottesdienst
END:VEVENT
BEGIN:VEVENT
DTSTART;TZID=Europe/Berlin:20250321T183000
DTEND;TZID=Europe/Berlin:20250321T190000
DTSTAMP:20260422T041728
CREATED:20250226T101528Z
LAST-MODIFIED:20250226T101528Z
UID:10000212-1742581800-1742583600@se-abba.de
SUMMARY:Rosenkranz (Bühlingen)
DESCRIPTION:
URL:https://se-abba.de/termin/rosenkranz-buehlingen-12/
LOCATION:St. Silvester Bühlingen
CATEGORIES:Gottesdienst
END:VEVENT
BEGIN:VEVENT
DTSTART;TZID=Europe/Berlin:20250316T103000
DTEND;TZID=Europe/Berlin:20250316T113000
DTSTAMP:20260422T041728
CREATED:20250226T101140Z
LAST-MODIFIED:20250226T101140Z
UID:10000205-1742121000-1742124600@se-abba.de
SUMMARY:Eucharistiefeier (Bühlingen)
DESCRIPTION:
URL:https://se-abba.de/termin/eucharistiefeier-buehlingen-2/
LOCATION:St. Silvester Bühlingen
CATEGORIES:Gottesdienst
END:VEVENT
BEGIN:VEVENT
DTSTART;TZID=Europe/Berlin:20250314T183000
DTEND;TZID=Europe/Berlin:20250314T190000
DTSTAMP:20260422T041728
CREATED:20250226T100741Z
LAST-MODIFIED:20250226T100741Z
UID:10000104-1741977000-1741978800@se-abba.de
SUMMARY:Rosenkranz (Bühlingen)
DESCRIPTION:
URL:https://se-abba.de/termin/rosenkranz-buehlingen-3/
LOCATION:St. Silvester Bühlingen
CATEGORIES:Gottesdienst
END:VEVENT
BEGIN:VEVENT
DTSTART;TZID=Europe/Berlin:20250309T090000
DTEND;TZID=Europe/Berlin:20250309T100000
DTSTAMP:20260422T041728
CREATED:20250226T095920Z
LAST-MODIFIED:20250226T095920Z
UID:10000197-1741510800-1741514400@se-abba.de
SUMMARY:Eucharistie mit Aschenbestreuung (Bühlingen)
DESCRIPTION:
URL:https://se-abba.de/termin/eucharistie-mit-aschenbestreuung-buehlingen/
LOCATION:St. Silvester Bühlingen
CATEGORIES:Gottesdienst
END:VEVENT
BEGIN:VEVENT
DTSTART;TZID=Europe/Berlin:20250307T183000
DTEND;TZID=Europe/Berlin:20250307T190000
DTSTAMP:20260422T041728
CREATED:20250221T111343Z
LAST-MODIFIED:20250221T111349Z
UID:10000195-1741372200-1741374000@se-abba.de
SUMMARY:Rosenkranz (Bühlingen)
DESCRIPTION:
URL:https://se-abba.de/termin/rosenkranz-buehlingen-2/
LOCATION:St. Silvester Bühlingen
CATEGORIES:Gottesdienst
END:VEVENT
BEGIN:VEVENT
DTSTART;TZID=Europe/Berlin:20250307T160000
DTEND;TZID=Europe/Berlin:20250307T170000
DTSTAMP:20260422T041728
CREATED:20250221T111316Z
LAST-MODIFIED:20250221T111316Z
UID:10000194-1741363200-1741366800@se-abba.de
SUMMARY:Eucharistische Anbetung (Bühlingen)
DESCRIPTION:
URL:https://se-abba.de/termin/eucharistische-anbetung-buehlingen-4/
LOCATION:St. Silvester Bühlingen
CATEGORIES:Gottesdienst
END:VEVENT
BEGIN:VEVENT
DTSTART;TZID=Europe/Berlin:20250302T103000
DTEND;TZID=Europe/Berlin:20250302T113000
DTSTAMP:20260422T041728
CREATED:20250221T105821Z
LAST-MODIFIED:20250221T113726Z
UID:10000186-1740911400-1740915000@se-abba.de
SUMMARY:Eucharistiefeier (Bühlingen)
DESCRIPTION:
URL:https://se-abba.de/termin/eucharistiefeier-buehlingen/
LOCATION:St. Silvester Bühlingen
CATEGORIES:Gottesdienst
END:VEVENT
BEGIN:VEVENT
DTSTART;TZID=Europe/Berlin:20250228T183000
DTEND;TZID=Europe/Berlin:20250228T190000
DTSTAMP:20260422T041728
CREATED:20250214T110812Z
LAST-MODIFIED:20250214T110816Z
UID:10000182-1740767400-1740769200@se-abba.de
SUMMARY:Rosenkranz (Bühlingen)
DESCRIPTION:
URL:https://se-abba.de/termin/rosenkranz-buehlingen/
LOCATION:St. Silvester Bühlingen
CATEGORIES:Gottesdienst
END:VEVENT
BEGIN:VEVENT
DTSTART;TZID=Europe/Berlin:20250223T103000
DTEND;TZID=Europe/Berlin:20250223T113000
DTSTAMP:20260422T041728
CREATED:20250214T110457Z
LAST-MODIFIED:20250214T110457Z
UID:10000080-1740306600-1740310200@se-abba.de
SUMMARY:Wortgottesfeier (Bühlingen)
DESCRIPTION:
URL:https://se-abba.de/termin/wortgottesfeier-buehlingen/
LOCATION:St. Silvester Bühlingen
CATEGORIES:Gottesdienst
END:VEVENT
BEGIN:VEVENT
DTSTART;TZID=Europe/Berlin:20250221T183000
DTEND;TZID=Europe/Berlin:20250221T190000
DTSTAMP:20260422T041728
CREATED:20250206T172950Z
LAST-MODIFIED:20250206T172950Z
UID:10000181-1740162600-1740164400@se-abba.de
SUMMARY:Rosenkranz (Bühlingen)
DESCRIPTION:
URL:https://se-abba.de/termin/rosenkranz-buehlingen-11/
LOCATION:St. Silvester Bühlingen
CATEGORIES:Gottesdienst
END:VEVENT
BEGIN:VEVENT
DTSTART;TZID=Europe/Berlin:20250216T103000
DTEND;TZID=Europe/Berlin:20250216T113000
DTSTAMP:20260422T041728
CREATED:20250206T172709Z
LAST-MODIFIED:20250206T172709Z
UID:10000177-1739701800-1739705400@se-abba.de
SUMMARY:Eucharistiefeier (Bühlingen)
DESCRIPTION:
URL:https://se-abba.de/termin/eucharistiefeier-buehlingen-10/
LOCATION:St. Silvester Bühlingen
CATEGORIES:Gottesdienst
END:VEVENT
BEGIN:VEVENT
DTSTART;TZID=Europe/Berlin:20250214T190000
DTEND;TZID=Europe/Berlin:20250214T203000
DTSTAMP:20260422T041728
CREATED:20250131T121407Z
LAST-MODIFIED:20250131T121412Z
UID:10000155-1739559600-1739565000@se-abba.de
SUMMARY:Gottesdienst für Paare "Glücksmomente" (Bühlingen)
DESCRIPTION:
URL:https://se-abba.de/termin/gottesdienst-fuer-paare-gluecksmomente-buehlingen/
LOCATION:St. Silvester Bühlingen
CATEGORIES:Gottesdienst
END:VEVENT
BEGIN:VEVENT
DTSTART;TZID=Europe/Berlin:20250209T090000
DTEND;TZID=Europe/Berlin:20250209T100000
DTSTAMP:20260422T041728
CREATED:20250131T120915Z
LAST-MODIFIED:20250131T120915Z
UID:10000145-1739091600-1739095200@se-abba.de
SUMMARY:Eucharistiefeier (Bühlingen)
DESCRIPTION:
URL:https://se-abba.de/termin/eucharistiefeier-buehlingen-7/
LOCATION:St. Silvester Bühlingen
CATEGORIES:Gottesdienst
END:VEVENT
BEGIN:VEVENT
DTSTART;TZID=Europe/Berlin:20250207T183000
DTEND;TZID=Europe/Berlin:20250207T190000
DTSTAMP:20260422T041728
CREATED:20250128T133949Z
LAST-MODIFIED:20250128T133949Z
UID:10000041-1738953000-1738954800@se-abba.de
SUMMARY:Rosenkranz (Bühlingen)
DESCRIPTION:
URL:https://se-abba.de/termin/rosenkranz-buehlingen-10/
LOCATION:St. Silvester Bühlingen
CATEGORIES:Gottesdienst
END:VEVENT
BEGIN:VEVENT
DTSTART;TZID=Europe/Berlin:20250207T160000
DTEND;TZID=Europe/Berlin:20250207T170000
DTSTAMP:20260422T041728
CREATED:20250128T133918Z
LAST-MODIFIED:20250128T133918Z
UID:10000039-1738944000-1738947600@se-abba.de
SUMMARY:Eucharistische Anbetung (Bühlingen)
DESCRIPTION:
URL:https://se-abba.de/termin/eucharistische-anbetung-buehlingen-3/
LOCATION:St. Silvester Bühlingen
CATEGORIES:Gottesdienst
END:VEVENT
BEGIN:VEVENT
DTSTART;TZID=Europe/Berlin:20250201T183000
DTEND;TZID=Europe/Berlin:20250201T193000
DTSTAMP:20260422T041728
CREATED:20250128T133422Z
LAST-MODIFIED:20250128T133444Z
UID:10000131-1738434600-1738438200@se-abba.de
SUMMARY:Eucharistiefeier mit Blasiussegen (Bühlingen)
DESCRIPTION:
URL:https://se-abba.de/termin/eucharistiefeier-buehlingen-6/
LOCATION:St. Silvester Bühlingen
CATEGORIES:Gottesdienst
END:VEVENT
BEGIN:VEVENT
DTSTART;TZID=Europe/Berlin:20250131T183000
DTEND;TZID=Europe/Berlin:20250131T190000
DTSTAMP:20260422T041728
CREATED:20250117T094058Z
LAST-MODIFIED:20250117T094203Z
UID:10000130-1738348200-1738350000@se-abba.de
SUMMARY:Rosenkranz (Bühlingen)
DESCRIPTION:
URL:https://se-abba.de/termin/rosenkranz-buehlingen-9/
LOCATION:St. Silvester Bühlingen
CATEGORIES:Gottesdienst
END:VEVENT
BEGIN:VEVENT
DTSTART;TZID=Europe/Berlin:20250125T183000
DTEND;TZID=Europe/Berlin:20250125T193000
DTSTAMP:20260422T041728
CREATED:20250117T093328Z
LAST-MODIFIED:20250117T093328Z
UID:10000119-1737829800-1737833400@se-abba.de
SUMMARY:Eucharistiefeier (Bühlingen)
DESCRIPTION:
URL:https://se-abba.de/termin/eucharistiefeier-buehlingen-5/
LOCATION:St. Silvester Bühlingen
CATEGORIES:Gottesdienst
END:VEVENT
BEGIN:VEVENT
DTSTART;TZID=Europe/Berlin:20250124T183000
DTEND;TZID=Europe/Berlin:20250124T193000
DTSTAMP:20260422T041728
CREATED:20250110T100102Z
LAST-MODIFIED:20250110T100106Z
UID:10000112-1737743400-1737747000@se-abba.de
SUMMARY:Rosenkranz (Bühlingen)
DESCRIPTION:
URL:https://se-abba.de/termin/rosenkranz-buehlingen-8/
LOCATION:St. Silvester Bühlingen
CATEGORIES:Gottesdienst
END:VEVENT
BEGIN:VEVENT
DTSTART;TZID=Europe/Berlin:20250119T103000
DTEND;TZID=Europe/Berlin:20250119T113000
DTSTAMP:20260422T041728
CREATED:20250110T095855Z
LAST-MODIFIED:20250110T095855Z
UID:10000021-1737282600-1737286200@se-abba.de
SUMMARY:Eucharistiefeier (Bühlingen)
DESCRIPTION:
URL:https://se-abba.de/termin/eucharistiefeier-buehlingen-4/
LOCATION:St. Silvester Bühlingen
CATEGORIES:Gottesdienst
END:VEVENT
BEGIN:VEVENT
DTSTART;TZID=Europe/Berlin:20250117T183000
DTEND;TZID=Europe/Berlin:20250117T190000
DTSTAMP:20260422T041728
CREATED:20250102T164329Z
LAST-MODIFIED:20250102T164334Z
UID:10000097-1737138600-1737140400@se-abba.de
SUMMARY:Rosenkranz (Bühlingen)
DESCRIPTION:
URL:https://se-abba.de/termin/rosenkranz-buehlingen-7/
LOCATION:St. Silvester Bühlingen
CATEGORIES:Gottesdienst
END:VEVENT
BEGIN:VEVENT
DTSTART;TZID=Europe/Berlin:20250112T090000
DTEND;TZID=Europe/Berlin:20250112T100000
DTSTAMP:20260422T041728
CREATED:20250102T163928Z
LAST-MODIFIED:20250102T163928Z
UID:10000004-1736672400-1736676000@se-abba.de
SUMMARY:Eucharistiefeier (Bühlingen)
DESCRIPTION:
URL:https://se-abba.de/termin/eucharistiefeier-buehlingen-3/
LOCATION:St. Silvester Bühlingen
CATEGORIES:Gottesdienst
END:VEVENT
BEGIN:VEVENT
DTSTART;TZID=Europe/Berlin:20250110T183000
DTEND;TZID=Europe/Berlin:20250110T193000
DTSTAMP:20260422T041728
CREATED:20241227T102541Z
LAST-MODIFIED:20241227T102541Z
UID:10000008-1736533800-1736537400@se-abba.de
SUMMARY:Rosenkranz (Bühlingen)
DESCRIPTION:
URL:https://se-abba.de/termin/rosenkranz-buehlingen-6/
LOCATION:St. Silvester Bühlingen
CATEGORIES:Gottesdienst
END:VEVENT
BEGIN:VEVENT
DTSTART;TZID=Europe/Berlin:20250106T103000
DTEND;TZID=Europe/Berlin:20250106T113000
DTSTAMP:20260422T041728
CREATED:20241213T110448Z
LAST-MODIFIED:20241213T110453Z
UID:10000065-1736159400-1736163000@se-abba.de
SUMMARY:Eucharistiefeier mit Sternsingern (Bühlingen)
DESCRIPTION:
URL:https://se-abba.de/termin/eucharistiefeier-mit-sternsingern-buehlingen/
LOCATION:St. Silvester Bühlingen
CATEGORIES:Gottesdienst
END:VEVENT
END:VCALENDAR