BEGIN:VCALENDAR
VERSION:2.0
PRODID:-//Seelsorgeeinheit ABBA - ECPv6.15.11//NONSGML v1.0//EN
CALSCALE:GREGORIAN
METHOD:PUBLISH
X-ORIGINAL-URL:https://se-abba.de
X-WR-CALDESC:Veranstaltungen für Seelsorgeeinheit ABBA
REFRESH-INTERVAL;VALUE=DURATION:PT1H
X-Robots-Tag:noindex
X-PUBLISHED-TTL:PT1H
BEGIN:VTIMEZONE
TZID:Europe/Berlin
BEGIN:DAYLIGHT
TZOFFSETFROM:+0100
TZOFFSETTO:+0200
TZNAME:CEST
DTSTART:20240331T010000
END:DAYLIGHT
BEGIN:STANDARD
TZOFFSETFROM:+0200
TZOFFSETTO:+0100
TZNAME:CET
DTSTART:20241027T010000
END:STANDARD
BEGIN:DAYLIGHT
TZOFFSETFROM:+0100
TZOFFSETTO:+0200
TZNAME:CEST
DTSTART:20250330T010000
END:DAYLIGHT
BEGIN:STANDARD
TZOFFSETFROM:+0200
TZOFFSETTO:+0100
TZNAME:CET
DTSTART:20251026T010000
END:STANDARD
BEGIN:DAYLIGHT
TZOFFSETFROM:+0100
TZOFFSETTO:+0200
TZNAME:CEST
DTSTART:20260329T010000
END:DAYLIGHT
BEGIN:STANDARD
TZOFFSETFROM:+0200
TZOFFSETTO:+0100
TZNAME:CET
DTSTART:20261025T010000
END:STANDARD
BEGIN:DAYLIGHT
TZOFFSETFROM:+0100
TZOFFSETTO:+0200
TZNAME:CEST
DTSTART:20270328T010000
END:DAYLIGHT
BEGIN:STANDARD
TZOFFSETFROM:+0200
TZOFFSETTO:+0100
TZNAME:CET
DTSTART:20271031T010000
END:STANDARD
END:VTIMEZONE
BEGIN:VEVENT
DTSTART;TZID=Europe/Berlin:20260206T183000
DTEND;TZID=Europe/Berlin:20260206T190000
DTSTAMP:20260421T145952
CREATED:20260120T101218Z
LAST-MODIFIED:20260120T101223Z
UID:10000978-1770402600-1770404400@se-abba.de
SUMMARY:Rosenkranz (Bühlingen)
DESCRIPTION:
URL:https://se-abba.de/termin/rosenkranz-buehlingen-47/
LOCATION:St. Silvester Bühlingen
CATEGORIES:Gottesdienst
END:VEVENT
BEGIN:VEVENT
DTSTART;TZID=Europe/Berlin:20260131T183000
DTEND;TZID=Europe/Berlin:20260131T193000
DTSTAMP:20260421T145952
CREATED:20251111T085741Z
LAST-MODIFIED:20251111T085741Z
UID:10000881-1769884200-1769887800@se-abba.de
SUMMARY:Eucharistiefeier mit Blasiussegen (Bühlingen)
DESCRIPTION:
URL:https://se-abba.de/termin/eucharistiefeier-mit-blasiussegen-buehlingen/
LOCATION:St. Silvester Bühlingen
END:VEVENT
BEGIN:VEVENT
DTSTART;TZID=Europe/Berlin:20260125T090000
DTEND;TZID=Europe/Berlin:20260125T100000
DTSTAMP:20260421T145952
CREATED:20251111T085741Z
LAST-MODIFIED:20251111T085741Z
UID:10000880-1769331600-1769335200@se-abba.de
SUMMARY:Eucharistiefeier (Bühlingen)
DESCRIPTION:
URL:https://se-abba.de/termin/eucharistiefeier-buehlingen-26/
LOCATION:St. Silvester Bühlingen
END:VEVENT
BEGIN:VEVENT
DTSTART;TZID=Europe/Berlin:20260123T183000
DTEND;TZID=Europe/Berlin:20260123T190000
DTSTAMP:20260421T145952
CREATED:20260109T112222Z
LAST-MODIFIED:20260109T112429Z
UID:10000964-1769193000-1769194800@se-abba.de
SUMMARY:Rosenkranz (Bühlingen)
DESCRIPTION:
URL:https://se-abba.de/termin/rosenkranz-rw-altstadt-80/
LOCATION:St. Silvester Bühlingen
CATEGORIES:Gottesdienst
END:VEVENT
BEGIN:VEVENT
DTSTART;TZID=Europe/Berlin:20260116T183000
DTEND;TZID=Europe/Berlin:20260116T190000
DTSTAMP:20260421T145952
CREATED:20260102T095604Z
LAST-MODIFIED:20260102T095604Z
UID:10000957-1768588200-1768590000@se-abba.de
SUMMARY:Rosenkranz (Bühlingen)
DESCRIPTION:
URL:https://se-abba.de/termin/rosenkranz-buehlingen-46/
LOCATION:St. Silvester Bühlingen
CATEGORIES:Gottesdienst
END:VEVENT
BEGIN:VEVENT
DTSTART;TZID=Europe/Berlin:20260111T090000
DTEND;TZID=Europe/Berlin:20260111T100000
DTSTAMP:20260421T145952
CREATED:20251111T085540Z
LAST-MODIFIED:20251111T085540Z
UID:10000879-1768122000-1768125600@se-abba.de
SUMMARY:Eucharistiefeier (Bühlingen)
DESCRIPTION:
URL:https://se-abba.de/termin/eucharistiefeier-buehlingen-25/
LOCATION:St. Silvester Bühlingen
END:VEVENT
BEGIN:VEVENT
DTSTART;TZID=Europe/Berlin:20260109T183000
DTEND;TZID=Europe/Berlin:20260109T190000
DTSTAMP:20260421T145952
CREATED:20251222T094056Z
LAST-MODIFIED:20251222T094101Z
UID:10000954-1767983400-1767985200@se-abba.de
SUMMARY:Rosenkranz (Bühlingen)
DESCRIPTION:
URL:https://se-abba.de/termin/rosenkranz-buehlingen-45/
LOCATION:St. Silvester Bühlingen
CATEGORIES:Gottesdienst
END:VEVENT
BEGIN:VEVENT
DTSTART;TZID=Europe/Berlin:20260106T103000
DTEND;TZID=Europe/Berlin:20260106T113000
DTSTAMP:20260421T145952
CREATED:20251111T085540Z
LAST-MODIFIED:20251222T093931Z
UID:10000878-1767695400-1767699000@se-abba.de
SUMMARY:Hochamt (Bühlingen)\, mit Sternsingern
DESCRIPTION:
URL:https://se-abba.de/termin/hochamt-buehlingen-6/
LOCATION:St. Silvester Bühlingen
END:VEVENT
BEGIN:VEVENT
DTSTART;TZID=Europe/Berlin:20251231T170000
DTEND;TZID=Europe/Berlin:20251231T180000
DTSTAMP:20260421T145952
CREATED:20251111T085309Z
LAST-MODIFIED:20251111T085309Z
UID:10000862-1767200400-1767204000@se-abba.de
SUMMARY:Hochamt Patrozium (Bühlingen)
DESCRIPTION:
URL:https://se-abba.de/termin/hochamt-patrozium-buehlingen/
LOCATION:St. Silvester Bühlingen
END:VEVENT
BEGIN:VEVENT
DTSTART;TZID=Europe/Berlin:20251228T090000
DTEND;TZID=Europe/Berlin:20251228T100000
DTSTAMP:20260421T145952
CREATED:20251111T085253Z
LAST-MODIFIED:20251111T085253Z
UID:10000856-1766912400-1766916000@se-abba.de
SUMMARY:Wortgottesfeier mit Kindersegnung (Bühlingen)
DESCRIPTION:
URL:https://se-abba.de/termin/wortgottesfeier-mit-kindersegnung-buehlingen/
LOCATION:St. Silvester Bühlingen
END:VEVENT
BEGIN:VEVENT
DTSTART;TZID=Europe/Berlin:20251225T090000
DTEND;TZID=Europe/Berlin:20251225T100000
DTSTAMP:20260421T145952
CREATED:20251111T085224Z
LAST-MODIFIED:20251111T085224Z
UID:10000848-1766653200-1766656800@se-abba.de
SUMMARY:Hochamt (Bühlingen)
DESCRIPTION:
URL:https://se-abba.de/termin/hochamt-buehlingen-5/
LOCATION:St. Silvester Bühlingen
END:VEVENT
BEGIN:VEVENT
DTSTART;TZID=Europe/Berlin:20251224T170000
DTEND;TZID=Europe/Berlin:20251224T180000
DTSTAMP:20260421T145952
CREATED:20251111T085209Z
LAST-MODIFIED:20251111T085209Z
UID:10000843-1766595600-1766599200@se-abba.de
SUMMARY:Krippenfeier (Bühlingen)
DESCRIPTION:
URL:https://se-abba.de/termin/krippenfeier-buehlingen/
LOCATION:St. Silvester Bühlingen
END:VEVENT
BEGIN:VEVENT
DTSTART;TZID=Europe/Berlin:20251221T103000
DTEND;TZID=Europe/Berlin:20251221T113000
DTSTAMP:20260421T145952
CREATED:20251111T085201Z
LAST-MODIFIED:20251111T085201Z
UID:10000835-1766313000-1766316600@se-abba.de
SUMMARY:Eucharistie- mit Bußfeier (Bühlingen)
DESCRIPTION:
URL:https://se-abba.de/termin/eucharistie-mit-bussfeier-buehlingen/
LOCATION:St. Silvester Bühlingen
END:VEVENT
BEGIN:VEVENT
DTSTART;TZID=Europe/Berlin:20251219T183000
DTEND;TZID=Europe/Berlin:20251219T190000
DTSTAMP:20260421T145952
CREATED:20251208T161955Z
LAST-MODIFIED:20251208T162316Z
UID:10000950-1766169000-1766170800@se-abba.de
SUMMARY:Rosenkranz (Bühlingen)
DESCRIPTION:
URL:https://se-abba.de/termin/rosenkranz-st-silvester-2/
LOCATION:St. Silvester Bühlingen
CATEGORIES:Gottesdienst
END:VEVENT
BEGIN:VEVENT
DTSTART;TZID=Europe/Berlin:20251214T090000
DTEND;TZID=Europe/Berlin:20251214T100000
DTSTAMP:20260421T145952
CREATED:20251111T084345Z
LAST-MODIFIED:20251111T084345Z
UID:10000823-1765702800-1765706400@se-abba.de
SUMMARY:Eucharistiefeier (Bühlingen)
DESCRIPTION:
URL:https://se-abba.de/termin/eucharistiefeier-buehlingen-24/
LOCATION:St. Silvester Bühlingen
END:VEVENT
BEGIN:VEVENT
DTSTART;TZID=Europe/Berlin:20251212T183000
DTEND;TZID=Europe/Berlin:20251212T190000
DTSTAMP:20260421T145952
CREATED:20251208T161138Z
LAST-MODIFIED:20251208T161142Z
UID:10000947-1765564200-1765566000@se-abba.de
SUMMARY:Rosenkranz (St. Silvester)
DESCRIPTION:
URL:https://se-abba.de/termin/rosenkranz-st-silvester/
LOCATION:St. Silvester Bühlingen
CATEGORIES:Gottesdienst
END:VEVENT
BEGIN:VEVENT
DTSTART;TZID=Europe/Berlin:20251206T183000
DTEND;TZID=Europe/Berlin:20251206T193000
DTSTAMP:20260421T145952
CREATED:20251111T083820Z
LAST-MODIFIED:20251111T083820Z
UID:10000807-1765045800-1765049400@se-abba.de
SUMMARY:Eucharistiefeier (Bühlingen)
DESCRIPTION:
URL:https://se-abba.de/termin/eucharistiefeier-buehlingen-23/
LOCATION:St. Silvester Bühlingen
END:VEVENT
BEGIN:VEVENT
DTSTART;TZID=Europe/Berlin:20251205T183000
DTEND;TZID=Europe/Berlin:20251205T190000
DTSTAMP:20260421T145952
CREATED:20251121T120216Z
LAST-MODIFIED:20251121T120216Z
UID:10000943-1764959400-1764961200@se-abba.de
SUMMARY:Rosenkranz (Bühlingen)
DESCRIPTION:
URL:https://se-abba.de/termin/rosenkranz-buehlingen-44/
LOCATION:St. Silvester Bühlingen
CATEGORIES:Gottesdienst
END:VEVENT
BEGIN:VEVENT
DTSTART;TZID=Europe/Berlin:20251205T160000
DTEND;TZID=Europe/Berlin:20251205T183000
DTSTAMP:20260421T145952
CREATED:20251121T120148Z
LAST-MODIFIED:20251121T120148Z
UID:10000942-1764950400-1764959400@se-abba.de
SUMMARY:Eucharistische Anbetung (Bühlingen)
DESCRIPTION:
URL:https://se-abba.de/termin/eucharistische-anbetung-buehlingen-12/
LOCATION:St. Silvester Bühlingen
CATEGORIES:Gottesdienst
END:VEVENT
BEGIN:VEVENT
DTSTART;TZID=Europe/Berlin:20251130T103000
DTEND;TZID=Europe/Berlin:20251130T113000
DTSTAMP:20260421T145952
CREATED:20251111T083801Z
LAST-MODIFIED:20251111T083801Z
UID:10000796-1764498600-1764502200@se-abba.de
SUMMARY:Wortgottesfeier (Bühlingen)
DESCRIPTION:
URL:https://se-abba.de/termin/wortgottesfeier-buehlingen-9/
LOCATION:St. Silvester Bühlingen
END:VEVENT
BEGIN:VEVENT
DTSTART;TZID=Europe/Berlin:20251128T183000
DTEND;TZID=Europe/Berlin:20251128T190000
DTSTAMP:20260421T145952
CREATED:20251009T123735Z
LAST-MODIFIED:20251009T123735Z
UID:10000767-1764354600-1764356400@se-abba.de
SUMMARY:Rosenkranz (Bühlingen)
DESCRIPTION:
URL:https://se-abba.de/termin/rosenkranz-buehlingen-43/
LOCATION:St. Silvester Bühlingen
END:VEVENT
BEGIN:VEVENT
DTSTART;TZID=Europe/Berlin:20251126T140000
DTEND;TZID=Europe/Berlin:20251126T150000
DTSTAMP:20260421T145952
CREATED:20251009T124739Z
LAST-MODIFIED:20251121T115702Z
UID:10000790-1764165600-1764169200@se-abba.de
SUMMARY:Eucharistie und Krankensalbungsgottesdienst (Bühlingen)
DESCRIPTION:
URL:https://se-abba.de/termin/krankensalbungsgottesdienst-buehlingen/
LOCATION:St. Silvester Bühlingen
END:VEVENT
BEGIN:VEVENT
DTSTART;TZID=Europe/Berlin:20251123T090000
DTEND;TZID=Europe/Berlin:20251123T100000
DTSTAMP:20260421T145952
CREATED:20251009T123735Z
LAST-MODIFIED:20251009T123735Z
UID:10000766-1763888400-1763892000@se-abba.de
SUMMARY:Hochamt (Bühlingen)
DESCRIPTION:
URL:https://se-abba.de/termin/hochamt-buehlingen-4/
LOCATION:St. Silvester Bühlingen
END:VEVENT
BEGIN:VEVENT
DTSTART;TZID=Europe/Berlin:20251121T183000
DTEND;TZID=Europe/Berlin:20251121T190000
DTSTAMP:20260421T145952
CREATED:20251009T123734Z
LAST-MODIFIED:20251009T123734Z
UID:10000765-1763749800-1763751600@se-abba.de
SUMMARY:Rosenkranz (Bühlingen)
DESCRIPTION:
URL:https://se-abba.de/termin/rosenkranz-buehlingen-42/
LOCATION:St. Silvester Bühlingen
END:VEVENT
BEGIN:VEVENT
DTSTART;TZID=Europe/Berlin:20251116T090000
DTEND;TZID=Europe/Berlin:20251116T100000
DTSTAMP:20260421T145952
CREATED:20251009T123734Z
LAST-MODIFIED:20251009T123734Z
UID:10000764-1763283600-1763287200@se-abba.de
SUMMARY:Eucharistiefeier (Bühlingen)
DESCRIPTION:
URL:https://se-abba.de/termin/eucharistiefeier-buehlingen-22/
LOCATION:St. Silvester Bühlingen
END:VEVENT
BEGIN:VEVENT
DTSTART;TZID=Europe/Berlin:20251114T183000
DTEND;TZID=Europe/Berlin:20251114T190000
DTSTAMP:20260421T145952
CREATED:20251009T123734Z
LAST-MODIFIED:20251009T123734Z
UID:10000763-1763145000-1763146800@se-abba.de
SUMMARY:Rosenkranz (Bühlingen)
DESCRIPTION:
URL:https://se-abba.de/termin/rosenkranz-buehlingen-41/
LOCATION:St. Silvester Bühlingen
END:VEVENT
BEGIN:VEVENT
DTSTART;TZID=Europe/Berlin:20251108T183000
DTEND;TZID=Europe/Berlin:20251108T193000
DTSTAMP:20260421T145952
CREATED:20251009T123534Z
LAST-MODIFIED:20251009T123534Z
UID:10000762-1762626600-1762630200@se-abba.de
SUMMARY:Eucharistiefeier (Bühlingen)
DESCRIPTION:
URL:https://se-abba.de/termin/eucharistiefeier-buehlingen-21/
LOCATION:St. Silvester Bühlingen
END:VEVENT
BEGIN:VEVENT
DTSTART;TZID=Europe/Berlin:20251107T183000
DTEND;TZID=Europe/Berlin:20251107T190000
DTSTAMP:20260421T145952
CREATED:20251009T123533Z
LAST-MODIFIED:20251009T123533Z
UID:10000761-1762540200-1762542000@se-abba.de
SUMMARY:Rosenkranz (Bühlingen)
DESCRIPTION:
URL:https://se-abba.de/termin/rosenkranz-buehlingen-40/
LOCATION:St. Silvester Bühlingen
END:VEVENT
BEGIN:VEVENT
DTSTART;TZID=Europe/Berlin:20251107T160000
DTEND;TZID=Europe/Berlin:20251107T183000
DTSTAMP:20260421T145952
CREATED:20251024T102824Z
LAST-MODIFIED:20251024T102830Z
UID:10000793-1762531200-1762540200@se-abba.de
SUMMARY:Eucharistische Anbetung (Bühlingen)
DESCRIPTION:
URL:https://se-abba.de/termin/eucharistische-anbetung-buehlingen-11/
LOCATION:St. Silvester Bühlingen
CATEGORIES:Gottesdienst
END:VEVENT
BEGIN:VEVENT
DTSTART;TZID=Europe/Berlin:20251102T103000
DTEND;TZID=Europe/Berlin:20251102T113000
DTSTAMP:20260421T145952
CREATED:20251009T123533Z
LAST-MODIFIED:20251009T123533Z
UID:10000760-1762079400-1762083000@se-abba.de
SUMMARY:Hochamt anschl. Gräberbesuch (Bühlingen)
DESCRIPTION:
URL:https://se-abba.de/termin/hochamt-anschl-graeberbesuch-buehlingen/
LOCATION:St. Silvester Bühlingen
END:VEVENT
END:VCALENDAR