BEGIN:VCALENDAR
VERSION:2.0
PRODID:-//Seelsorgeeinheit ABBA - ECPv6.15.11//NONSGML v1.0//EN
CALSCALE:GREGORIAN
METHOD:PUBLISH
X-WR-CALNAME:Seelsorgeeinheit ABBA
X-ORIGINAL-URL:https://se-abba.de
X-WR-CALDESC:Veranstaltungen für Seelsorgeeinheit ABBA
REFRESH-INTERVAL;VALUE=DURATION:PT1H
X-Robots-Tag:noindex
X-PUBLISHED-TTL:PT1H
BEGIN:VTIMEZONE
TZID:Europe/Berlin
BEGIN:DAYLIGHT
TZOFFSETFROM:+0100
TZOFFSETTO:+0200
TZNAME:CEST
DTSTART:20240331T010000
END:DAYLIGHT
BEGIN:STANDARD
TZOFFSETFROM:+0200
TZOFFSETTO:+0100
TZNAME:CET
DTSTART:20241027T010000
END:STANDARD
BEGIN:DAYLIGHT
TZOFFSETFROM:+0100
TZOFFSETTO:+0200
TZNAME:CEST
DTSTART:20250330T010000
END:DAYLIGHT
BEGIN:STANDARD
TZOFFSETFROM:+0200
TZOFFSETTO:+0100
TZNAME:CET
DTSTART:20251026T010000
END:STANDARD
BEGIN:DAYLIGHT
TZOFFSETFROM:+0100
TZOFFSETTO:+0200
TZNAME:CEST
DTSTART:20260329T010000
END:DAYLIGHT
BEGIN:STANDARD
TZOFFSETFROM:+0200
TZOFFSETTO:+0100
TZNAME:CET
DTSTART:20261025T010000
END:STANDARD
END:VTIMEZONE
BEGIN:VEVENT
DTSTART;TZID=Europe/Berlin:20250816T183000
DTEND;TZID=Europe/Berlin:20250816T193000
DTSTAMP:20260421T214544
CREATED:20250808T110513Z
LAST-MODIFIED:20250808T110513Z
UID:10000595-1755369000-1755372600@se-abba.de
SUMMARY:Eucharistie mit Kräuterweihe (Bühlingen)
DESCRIPTION:
URL:https://se-abba.de/termin/eucharistie-mit-kraeuterweihe-buehlingen/
LOCATION:St. Silvester Bühlingen
CATEGORIES:Gottesdienst
END:VEVENT
BEGIN:VEVENT
DTSTART;TZID=Europe/Berlin:20250815T183000
DTEND;TZID=Europe/Berlin:20250815T190000
DTSTAMP:20260421T214544
CREATED:20250731T161740Z
LAST-MODIFIED:20250731T161745Z
UID:10000594-1755282600-1755284400@se-abba.de
SUMMARY:Rosenkranz (Bühlingen)
DESCRIPTION:
URL:https://se-abba.de/termin/rosenkranz-buehlingen-30/
LOCATION:St. Silvester Bühlingen
CATEGORIES:Gottesdienst
END:VEVENT
BEGIN:VEVENT
DTSTART;TZID=Europe/Berlin:20250810T103000
DTEND;TZID=Europe/Berlin:20250810T113000
DTSTAMP:20260421T214544
CREATED:20250731T161411Z
LAST-MODIFIED:20250731T161411Z
UID:10000588-1754821800-1754825400@se-abba.de
SUMMARY:Wortgottesfeier (Bühlingen)
DESCRIPTION:
URL:https://se-abba.de/termin/wortgottesfeier-buehlingen-7/
LOCATION:St. Silvester Bühlingen
CATEGORIES:Gottesdienst
END:VEVENT
BEGIN:VEVENT
DTSTART;TZID=Europe/Berlin:20250808T183000
DTEND;TZID=Europe/Berlin:20250808T190000
DTSTAMP:20260421T214544
CREATED:20250724T162220Z
LAST-MODIFIED:20250724T162225Z
UID:10000582-1754677800-1754679600@se-abba.de
SUMMARY:Rosenkranz (Bühlingen)
DESCRIPTION:
URL:https://se-abba.de/termin/rosenkranz-buehlingen-29/
LOCATION:St. Silvester Bühlingen
CATEGORIES:Gottesdienst
END:VEVENT
BEGIN:VEVENT
DTSTART;TZID=Europe/Berlin:20250803T103000
DTEND;TZID=Europe/Berlin:20250803T113000
DTSTAMP:20260421T214544
CREATED:20250710T080232Z
LAST-MODIFIED:20250710T080232Z
UID:10000529-1754217000-1754220600@se-abba.de
SUMMARY:Eucharistiefeier (Bühlingen)
DESCRIPTION:
URL:https://se-abba.de/termin/eucharistiefeier-buehlingen-16/
LOCATION:St. Silvester Bühlingen
CATEGORIES:Gottesdienst
END:VEVENT
BEGIN:VEVENT
DTSTART;TZID=Europe/Berlin:20250801T183000
DTEND;TZID=Europe/Berlin:20250801T190000
DTSTAMP:20260421T214544
CREATED:20250710T075640Z
LAST-MODIFIED:20250710T075640Z
UID:10000523-1754073000-1754074800@se-abba.de
SUMMARY:Rosenkranz (Bühlingen)
DESCRIPTION:
URL:https://se-abba.de/termin/rosenkranz-buehlingen-28/
LOCATION:St. Silvester Bühlingen
CATEGORIES:Gottesdienst
END:VEVENT
BEGIN:VEVENT
DTSTART;TZID=Europe/Berlin:20250801T160000
DTEND;TZID=Europe/Berlin:20250801T183000
DTSTAMP:20260421T214544
CREATED:20250721T082402Z
LAST-MODIFIED:20250721T082402Z
UID:10000561-1754064000-1754073000@se-abba.de
SUMMARY:Eucharistische Anbetung (Bühlingen)
DESCRIPTION:
URL:https://se-abba.de/termin/eucharistische-anbetung-buehlingen-9/
LOCATION:St. Silvester Bühlingen
CATEGORIES:Gottesdienst
END:VEVENT
BEGIN:VEVENT
DTSTART;TZID=Europe/Berlin:20250727T090000
DTEND;TZID=Europe/Berlin:20250727T100000
DTSTAMP:20260421T214544
CREATED:20250710T075255Z
LAST-MODIFIED:20250710T075255Z
UID:10000517-1753606800-1753610400@se-abba.de
SUMMARY:Eucharistiefeier (Bühlingen)
DESCRIPTION:
URL:https://se-abba.de/termin/eucharistiefeier-buehlingen-15/
LOCATION:St. Silvester Bühlingen
CATEGORIES:Gottesdienst
END:VEVENT
BEGIN:VEVENT
DTSTART;TZID=Europe/Berlin:20250725T183000
DTEND;TZID=Europe/Berlin:20250725T190000
DTSTAMP:20260421T214544
CREATED:20250710T075112Z
LAST-MODIFIED:20250710T075112Z
UID:10000514-1753468200-1753470000@se-abba.de
SUMMARY:Rosenkranz (Bühlingen)
DESCRIPTION:
URL:https://se-abba.de/termin/rosenkranz-buehlingen-27/
LOCATION:St. Silvester Bühlingen
CATEGORIES:Gottesdienst
END:VEVENT
BEGIN:VEVENT
DTSTART;TZID=Europe/Berlin:20250719T183000
DTEND;TZID=Europe/Berlin:20250719T193000
DTSTAMP:20260421T214544
CREATED:20250710T074510Z
LAST-MODIFIED:20250710T074510Z
UID:10000504-1752949800-1752953400@se-abba.de
SUMMARY:Eucharistiefeier (Bühlingen)
DESCRIPTION:
URL:https://se-abba.de/termin/eucharistiefeier-buehlingen-14/
LOCATION:St. Silvester Bühlingen
CATEGORIES:Gottesdienst
END:VEVENT
BEGIN:VEVENT
DTSTART;TZID=Europe/Berlin:20250718T183000
DTEND;TZID=Europe/Berlin:20250718T193000
DTSTAMP:20260421T214544
CREATED:20250707T102822Z
LAST-MODIFIED:20250707T102822Z
UID:10000503-1752863400-1752867000@se-abba.de
SUMMARY:Rosenkranz (Bühlingen)
DESCRIPTION:
URL:https://se-abba.de/termin/rosenkranz-buehlingen-26/
LOCATION:St. Silvester Bühlingen
CATEGORIES:Gottesdienst
END:VEVENT
BEGIN:VEVENT
DTSTART;TZID=Europe/Berlin:20250713T103000
DTEND;TZID=Europe/Berlin:20250713T113000
DTSTAMP:20260421T214544
CREATED:20250707T102456Z
LAST-MODIFIED:20250707T102456Z
UID:10000496-1752402600-1752406200@se-abba.de
SUMMARY:Wortgottesfeier (Bühlingen)
DESCRIPTION:
URL:https://se-abba.de/termin/wortgottesfeier-buehlingen-6/
LOCATION:St. Silvester Bühlingen
CATEGORIES:Gottesdienst
END:VEVENT
BEGIN:VEVENT
DTSTART;TZID=Europe/Berlin:20250711T183000
DTEND;TZID=Europe/Berlin:20250711T190000
DTSTAMP:20260421T214544
CREATED:20250626T152543Z
LAST-MODIFIED:20250626T152549Z
UID:10000476-1752258600-1752260400@se-abba.de
SUMMARY:Rosenkranz (Bühlingen)
DESCRIPTION:
URL:https://se-abba.de/termin/rosenkranz-buehlingen-25/
LOCATION:St. Silvester Bühlingen
CATEGORIES:Gottesdienst
END:VEVENT
BEGIN:VEVENT
DTSTART;TZID=Europe/Berlin:20250706T103000
DTEND;TZID=Europe/Berlin:20250706T113000
DTSTAMP:20260421T214544
CREATED:20250626T152409Z
LAST-MODIFIED:20250626T152409Z
UID:10000473-1751797800-1751801400@se-abba.de
SUMMARY:Eucharistiefeier (Bühlingen)
DESCRIPTION:
URL:https://se-abba.de/termin/eucharistiefeier-buehlingen-13/
LOCATION:St. Silvester Bühlingen
CATEGORIES:Gottesdienst
END:VEVENT
BEGIN:VEVENT
DTSTART;TZID=Europe/Berlin:20250704T183000
DTEND;TZID=Europe/Berlin:20250704T190000
DTSTAMP:20260421T214544
CREATED:20250623T133154Z
LAST-MODIFIED:20250623T133154Z
UID:10000467-1751653800-1751655600@se-abba.de
SUMMARY:Rosenkranz (Bühlingen)
DESCRIPTION:
URL:https://se-abba.de/termin/rosenkranz-buehlingen-24/
LOCATION:St. Silvester Bühlingen
CATEGORIES:Gottesdienst
END:VEVENT
BEGIN:VEVENT
DTSTART;TZID=Europe/Berlin:20250704T160000
DTEND;TZID=Europe/Berlin:20250704T183000
DTSTAMP:20260421T214544
CREATED:20250623T133124Z
LAST-MODIFIED:20250623T133124Z
UID:10000466-1751644800-1751653800@se-abba.de
SUMMARY:Eucharistische Anbetung (Bühlingen)
DESCRIPTION:
URL:https://se-abba.de/termin/eucharistische-anbetung-buehlingen-8/
LOCATION:St. Silvester Bühlingen
CATEGORIES:Gottesdienst
END:VEVENT
BEGIN:VEVENT
DTSTART;TZID=Europe/Berlin:20250627T183000
DTEND;TZID=Europe/Berlin:20250627T193000
DTSTAMP:20260421T214544
CREATED:20250612T141353Z
LAST-MODIFIED:20250612T141357Z
UID:10000457-1751049000-1751052600@se-abba.de
SUMMARY:Rosenkranz (Bühlingen)
DESCRIPTION:
URL:https://se-abba.de/termin/rosenkranz-buehlingen-23/
LOCATION:St. Silvester Bühlingen
CATEGORIES:Gottesdienst
END:VEVENT
BEGIN:VEVENT
DTSTART;TZID=Europe/Berlin:20250622T170000
DTEND;TZID=Europe/Berlin:20250622T180000
DTSTAMP:20260421T214544
CREATED:20250612T140836Z
LAST-MODIFIED:20250612T140859Z
UID:10000453-1750611600-1750615200@se-abba.de
SUMMARY:Andacht (Bühlingen)
DESCRIPTION:
URL:https://se-abba.de/termin/eucharistische-anbetung-buehlingen-7/
LOCATION:St. Silvester Bühlingen
CATEGORIES:Gottesdienst
END:VEVENT
BEGIN:VEVENT
DTSTART;TZID=Europe/Berlin:20250622T150000
DTEND;TZID=Europe/Berlin:20250622T170000
DTSTAMP:20260421T214544
CREATED:20250612T141747Z
LAST-MODIFIED:20250612T141751Z
UID:10000458-1750604400-1750611600@se-abba.de
SUMMARY:Euchar. Anbetung\, Aussetzung (Bühlingen)
DESCRIPTION:
URL:https://se-abba.de/termin/euchar-anbetung-aussetzung-buehlingen/
LOCATION:St. Silvester Bühlingen
CATEGORIES:Gottesdienst
END:VEVENT
BEGIN:VEVENT
DTSTART;TZID=Europe/Berlin:20250621T183000
DTEND;TZID=Europe/Berlin:20250621T193000
DTSTAMP:20260421T214544
CREATED:20250612T081937Z
LAST-MODIFIED:20250612T081937Z
UID:10000447-1750530600-1750534200@se-abba.de
SUMMARY:Hochamt (Bühlingen)
DESCRIPTION:
URL:https://se-abba.de/termin/hochamt-buehlingen-2/
LOCATION:St. Silvester Bühlingen
CATEGORIES:Gottesdienst
END:VEVENT
BEGIN:VEVENT
DTSTART;TZID=Europe/Berlin:20250620T183000
DTEND;TZID=Europe/Berlin:20250620T190000
DTSTAMP:20260421T214544
CREATED:20250612T081857Z
LAST-MODIFIED:20250612T081857Z
UID:10000446-1750444200-1750446000@se-abba.de
SUMMARY:Rosenkranz (Bühlingen)
DESCRIPTION:
URL:https://se-abba.de/termin/rosenkranz-buehlingen-22/
LOCATION:St. Silvester Bühlingen
CATEGORIES:Gottesdienst
END:VEVENT
BEGIN:VEVENT
DTSTART;TZID=Europe/Berlin:20250615T103000
DTEND;TZID=Europe/Berlin:20250615T113000
DTSTAMP:20260421T214544
CREATED:20250612T081357Z
LAST-MODIFIED:20250612T081357Z
UID:10000439-1749983400-1749987000@se-abba.de
SUMMARY:Wortgottesfeier (Bühlingen)
DESCRIPTION:
URL:https://se-abba.de/termin/wortgottesfeier-buehlingen-5/
LOCATION:St. Silvester Bühlingen
CATEGORIES:Gottesdienst
END:VEVENT
BEGIN:VEVENT
DTSTART;TZID=Europe/Berlin:20250613T183000
DTEND;TZID=Europe/Berlin:20250613T190000
DTSTAMP:20260421T214544
CREATED:20250612T081045Z
LAST-MODIFIED:20250612T081045Z
UID:10000434-1749839400-1749841200@se-abba.de
SUMMARY:Rosenkranz (Bühlingen)
DESCRIPTION:
URL:https://se-abba.de/termin/rosenkranz-buehlingen-21/
LOCATION:St. Silvester Bühlingen
CATEGORIES:Gottesdienst
END:VEVENT
BEGIN:VEVENT
DTSTART;TZID=Europe/Berlin:20250609T103000
DTEND;TZID=Europe/Berlin:20250609T113000
DTSTAMP:20260421T214544
CREATED:20250605T083219Z
LAST-MODIFIED:20250605T083219Z
UID:10000429-1749465000-1749468600@se-abba.de
SUMMARY:Hochamt (Bühlingen)
DESCRIPTION:
URL:https://se-abba.de/termin/hochamt-buehlingen/
LOCATION:St. Silvester Bühlingen
CATEGORIES:Gottesdienst
END:VEVENT
BEGIN:VEVENT
DTSTART;TZID=Europe/Berlin:20250606T183000
DTEND;TZID=Europe/Berlin:20250606T190000
DTSTAMP:20260421T214544
CREATED:20250523T082940Z
LAST-MODIFIED:20250523T082945Z
UID:10000402-1749234600-1749236400@se-abba.de
SUMMARY:Rosenkranz (Bühlingen)
DESCRIPTION:
URL:https://se-abba.de/termin/rosenkranz-buehlingen-20/
LOCATION:St. Silvester Bühlingen
CATEGORIES:Gottesdienst
END:VEVENT
BEGIN:VEVENT
DTSTART;TZID=Europe/Berlin:20250606T160000
DTEND;TZID=Europe/Berlin:20250606T183000
DTSTAMP:20260421T214544
CREATED:20250523T082912Z
LAST-MODIFIED:20250523T082912Z
UID:10000401-1749225600-1749234600@se-abba.de
SUMMARY:Eucharistische Anbetung (Bühlingen)
DESCRIPTION:
URL:https://se-abba.de/termin/eucharistische-anbetung-buehlingen-6/
LOCATION:St. Silvester Bühlingen
CATEGORIES:Gottesdienst
END:VEVENT
BEGIN:VEVENT
DTSTART;TZID=Europe/Berlin:20250530T183000
DTEND;TZID=Europe/Berlin:20250530T190000
DTSTAMP:20260421T214544
CREATED:20250516T110112Z
LAST-MODIFIED:20250516T110112Z
UID:10000394-1748629800-1748631600@se-abba.de
SUMMARY:Rosenkranz (Bühlingen)
DESCRIPTION:
URL:https://se-abba.de/termin/rosenkranz-buehlingen-19/
LOCATION:St. Silvester Bühlingen
CATEGORIES:Gottesdienst
END:VEVENT
BEGIN:VEVENT
DTSTART;TZID=Europe/Berlin:20250528T183000
DTEND;TZID=Europe/Berlin:20250528T193000
DTSTAMP:20260421T214544
CREATED:20250516T105736Z
LAST-MODIFIED:20250516T105736Z
UID:10000388-1748457000-1748460600@se-abba.de
SUMMARY:Eucharistiefeier\, anschl. Öschprozession (Bühlingen)
DESCRIPTION:
URL:https://se-abba.de/termin/eucharistiefeier-anschl-oeschprozession-buehlingen/
LOCATION:St. Silvester Bühlingen
CATEGORIES:Gottesdienst
END:VEVENT
BEGIN:VEVENT
DTSTART;TZID=Europe/Berlin:20250527T183000
DTEND;TZID=Europe/Berlin:20250527T193000
DTSTAMP:20260421T214544
CREATED:20250516T105658Z
LAST-MODIFIED:20250516T105658Z
UID:10000387-1748370600-1748374200@se-abba.de
SUMMARY:Maiandacht (Bühlingen)
DESCRIPTION:
URL:https://se-abba.de/termin/maiandacht-buehlingen-2/
LOCATION:St. Silvester Bühlingen
CATEGORIES:Gottesdienst
END:VEVENT
BEGIN:VEVENT
DTSTART;TZID=Europe/Berlin:20250524T183000
DTEND;TZID=Europe/Berlin:20250524T193000
DTSTAMP:20260421T214544
CREATED:20250516T105331Z
LAST-MODIFIED:20250516T105331Z
UID:10000380-1748111400-1748115000@se-abba.de
SUMMARY:Eucharistiefeier (Bühlingen)
DESCRIPTION:
URL:https://se-abba.de/termin/eucharistiefeier-buehlingen-12/
LOCATION:St. Silvester Bühlingen
CATEGORIES:Gottesdienst
END:VEVENT
END:VCALENDAR