BEGIN:VCALENDAR
VERSION:2.0
PRODID:-//Seelsorgeeinheit ABBA - ECPv6.15.11//NONSGML v1.0//EN
CALSCALE:GREGORIAN
METHOD:PUBLISH
X-ORIGINAL-URL:https://se-abba.de
X-WR-CALDESC:Veranstaltungen für Seelsorgeeinheit ABBA
REFRESH-INTERVAL;VALUE=DURATION:PT1H
X-Robots-Tag:noindex
X-PUBLISHED-TTL:PT1H
BEGIN:VTIMEZONE
TZID:Europe/Berlin
BEGIN:DAYLIGHT
TZOFFSETFROM:+0100
TZOFFSETTO:+0200
TZNAME:CEST
DTSTART:20250330T010000
END:DAYLIGHT
BEGIN:STANDARD
TZOFFSETFROM:+0200
TZOFFSETTO:+0100
TZNAME:CET
DTSTART:20251026T010000
END:STANDARD
BEGIN:DAYLIGHT
TZOFFSETFROM:+0100
TZOFFSETTO:+0200
TZNAME:CEST
DTSTART:20260329T010000
END:DAYLIGHT
BEGIN:STANDARD
TZOFFSETFROM:+0200
TZOFFSETTO:+0100
TZNAME:CET
DTSTART:20261025T010000
END:STANDARD
BEGIN:DAYLIGHT
TZOFFSETFROM:+0100
TZOFFSETTO:+0200
TZNAME:CEST
DTSTART:20270328T010000
END:DAYLIGHT
BEGIN:STANDARD
TZOFFSETFROM:+0200
TZOFFSETTO:+0100
TZNAME:CET
DTSTART:20271031T010000
END:STANDARD
END:VTIMEZONE
BEGIN:VEVENT
DTSTART;TZID=Europe/Berlin:20260430T180000
DTEND;TZID=Europe/Berlin:20260430T183000
DTSTAMP:20260424T174411
CREATED:20260324T101839Z
LAST-MODIFIED:20260324T101839Z
UID:10001176-1777572000-1777573800@se-abba.de
SUMMARY:Rosenkranz (Wellendingen)
DESCRIPTION:
URL:https://se-abba.de/termin/rosenkranz-wellendingen-43/
LOCATION:St. Ulrich Wellendingen
END:VEVENT
BEGIN:VEVENT
DTSTART;TZID=Europe/Berlin:20260430T183000
DTEND;TZID=Europe/Berlin:20260430T193000
DTSTAMP:20260424T174411
CREATED:20260324T101839Z
LAST-MODIFIED:20260324T101839Z
UID:10001177-1777573800-1777577400@se-abba.de
SUMMARY:Eucharistiefeier (Wellendingen)
DESCRIPTION:
URL:https://se-abba.de/termin/eucharistiefeier-wellendingen-66/
LOCATION:St. Ulrich Wellendingen
END:VEVENT
BEGIN:VEVENT
DTSTART;TZID=Europe/Berlin:20260503T103000
DTEND;TZID=Europe/Berlin:20260503T113000
DTSTAMP:20260424T174411
CREATED:20260324T101840Z
LAST-MODIFIED:20260324T101840Z
UID:10001178-1777804200-1777807800@se-abba.de
SUMMARY:Eucharistiefeier (Wellendingen)
DESCRIPTION:
URL:https://se-abba.de/termin/eucharistiefeier-wellendingen-67/
LOCATION:St. Ulrich Wellendingen
END:VEVENT
BEGIN:VEVENT
DTSTART;TZID=Europe/Berlin:20260507T180000
DTEND;TZID=Europe/Berlin:20260507T183000
DTSTAMP:20260424T174411
CREATED:20260324T101840Z
LAST-MODIFIED:20260324T101840Z
UID:10001179-1778176800-1778178600@se-abba.de
SUMMARY:Rosenkranz (Wellendingen)
DESCRIPTION:
URL:https://se-abba.de/termin/rosenkranz-wellendingen-44/
LOCATION:St. Ulrich Wellendingen
END:VEVENT
BEGIN:VEVENT
DTSTART;TZID=Europe/Berlin:20260507T183000
DTEND;TZID=Europe/Berlin:20260507T193000
DTSTAMP:20260424T174411
CREATED:20260324T101840Z
LAST-MODIFIED:20260324T101840Z
UID:10001180-1778178600-1778182200@se-abba.de
SUMMARY:Eucharistiefeier (Wellendingen)
DESCRIPTION:
URL:https://se-abba.de/termin/eucharistiefeier-wellendingen-68/
LOCATION:St. Ulrich Wellendingen
END:VEVENT
BEGIN:VEVENT
DTSTART;TZID=Europe/Berlin:20260508T153000
DTEND;TZID=Europe/Berlin:20260508T163000
DTSTAMP:20260424T174411
CREATED:20260324T101856Z
LAST-MODIFIED:20260324T101856Z
UID:10001181-1778254200-1778257800@se-abba.de
SUMMARY:Hl. Messe im Pflegeheim (Wellendingen)
DESCRIPTION:
URL:https://se-abba.de/termin/hl-messe-im-pflegeheim-wellendingen-7/
LOCATION:St. Ulrich Wellendingen
END:VEVENT
BEGIN:VEVENT
DTSTART;TZID=Europe/Berlin:20260510T103000
DTEND;TZID=Europe/Berlin:20260510T113000
DTSTAMP:20260424T174411
CREATED:20260324T101857Z
LAST-MODIFIED:20260324T101857Z
UID:10001182-1778409000-1778412600@se-abba.de
SUMMARY:Wortgottesfeier (Wellendingen)
DESCRIPTION:
URL:https://se-abba.de/termin/wortgottesfeier-wellendingen-6/
LOCATION:St. Ulrich Wellendingen
END:VEVENT
BEGIN:VEVENT
DTSTART;TZID=Europe/Berlin:20260517T143000
DTEND;TZID=Europe/Berlin:20260517T153000
DTSTAMP:20260424T174411
CREATED:20260324T101858Z
LAST-MODIFIED:20260417T082253Z
UID:10001183-1779028200-1779031800@se-abba.de
SUMMARY:Maifeier (Wellendingen)
DESCRIPTION:
URL:https://se-abba.de/termin/hochamt-wellendingen-6/
LOCATION:St. Ulrich Wellendingen
END:VEVENT
BEGIN:VEVENT
DTSTART;TZID=Europe/Berlin:20260521T180000
DTEND;TZID=Europe/Berlin:20260521T183000
DTSTAMP:20260424T174411
CREATED:20260324T101858Z
LAST-MODIFIED:20260324T101858Z
UID:10001184-1779386400-1779388200@se-abba.de
SUMMARY:Rosenkranz (Wellendingen)
DESCRIPTION:
URL:https://se-abba.de/termin/rosenkranz-wellendingen-45/
LOCATION:St. Ulrich Wellendingen
END:VEVENT
BEGIN:VEVENT
DTSTART;TZID=Europe/Berlin:20260521T183000
DTEND;TZID=Europe/Berlin:20260521T193000
DTSTAMP:20260424T174411
CREATED:20260324T101859Z
LAST-MODIFIED:20260324T101859Z
UID:10001185-1779388200-1779391800@se-abba.de
SUMMARY:Eucharistiefeier (Wellendingen)
DESCRIPTION:
URL:https://se-abba.de/termin/eucharistiefeier-wellendingen-69/
LOCATION:St. Ulrich Wellendingen
END:VEVENT
BEGIN:VEVENT
DTSTART;TZID=Europe/Berlin:20260522T193000
DTEND;TZID=Europe/Berlin:20260522T203000
DTSTAMP:20260424T174411
CREATED:20260324T101911Z
LAST-MODIFIED:20260324T101911Z
UID:10001186-1779478200-1779481800@se-abba.de
SUMMARY:Eucharistiefeier anschl. Feuerstelle (Wellendingen)
DESCRIPTION:
URL:https://se-abba.de/termin/eucharistiefeier-anschl-feuerstelle-wellendingen-3/
LOCATION:St. Ulrich Wellendingen
END:VEVENT
BEGIN:VEVENT
DTSTART;TZID=Europe/Berlin:20260525T090000
DTEND;TZID=Europe/Berlin:20260525T100000
DTSTAMP:20260424T174411
CREATED:20260324T101912Z
LAST-MODIFIED:20260324T101912Z
UID:10001187-1779699600-1779703200@se-abba.de
SUMMARY:Hochamt (Wellendingen)
DESCRIPTION:
URL:https://se-abba.de/termin/hochamt-wellendingen-7/
LOCATION:St. Ulrich Wellendingen
END:VEVENT
END:VCALENDAR