BEGIN:VCALENDAR
VERSION:2.0
PRODID:-//Seelsorgeeinheit ABBA - ECPv6.15.11//NONSGML v1.0//EN
CALSCALE:GREGORIAN
METHOD:PUBLISH
X-WR-CALNAME:Seelsorgeeinheit ABBA
X-ORIGINAL-URL:https://se-abba.de
X-WR-CALDESC:Veranstaltungen für Seelsorgeeinheit ABBA
REFRESH-INTERVAL;VALUE=DURATION:PT1H
X-Robots-Tag:noindex
X-PUBLISHED-TTL:PT1H
BEGIN:VTIMEZONE
TZID:Europe/Berlin
BEGIN:DAYLIGHT
TZOFFSETFROM:+0100
TZOFFSETTO:+0200
TZNAME:CEST
DTSTART:20240331T010000
END:DAYLIGHT
BEGIN:STANDARD
TZOFFSETFROM:+0200
TZOFFSETTO:+0100
TZNAME:CET
DTSTART:20241027T010000
END:STANDARD
BEGIN:DAYLIGHT
TZOFFSETFROM:+0100
TZOFFSETTO:+0200
TZNAME:CEST
DTSTART:20250330T010000
END:DAYLIGHT
BEGIN:STANDARD
TZOFFSETFROM:+0200
TZOFFSETTO:+0100
TZNAME:CET
DTSTART:20251026T010000
END:STANDARD
BEGIN:DAYLIGHT
TZOFFSETFROM:+0100
TZOFFSETTO:+0200
TZNAME:CEST
DTSTART:20260329T010000
END:DAYLIGHT
BEGIN:STANDARD
TZOFFSETFROM:+0200
TZOFFSETTO:+0100
TZNAME:CET
DTSTART:20261025T010000
END:STANDARD
BEGIN:DAYLIGHT
TZOFFSETFROM:+0100
TZOFFSETTO:+0200
TZNAME:CEST
DTSTART:20270328T010000
END:DAYLIGHT
BEGIN:STANDARD
TZOFFSETFROM:+0200
TZOFFSETTO:+0100
TZNAME:CET
DTSTART:20271031T010000
END:STANDARD
END:VTIMEZONE
BEGIN:VEVENT
DTSTART;TZID=Europe/Berlin:20260419T090000
DTEND;TZID=Europe/Berlin:20260419T100000
DTSTAMP:20260421T110913
CREATED:20260324T101914Z
LAST-MODIFIED:20260324T101914Z
UID:10001189-1776589200-1776592800@se-abba.de
SUMMARY:Wortgottesfeier (Wilflingen)
DESCRIPTION:
URL:https://se-abba.de/termin/wortgottesfeier-wilflingen-6/
LOCATION:St. Gallus Wilflingen
END:VEVENT
BEGIN:VEVENT
DTSTART;TZID=Europe/Berlin:20260412T090000
DTEND;TZID=Europe/Berlin:20260412T100000
DTSTAMP:20260421T110913
CREATED:20260324T101912Z
LAST-MODIFIED:20260324T101912Z
UID:10001188-1775984400-1775988000@se-abba.de
SUMMARY:Erstkommunion (Wilflingen)
DESCRIPTION:
URL:https://se-abba.de/termin/erstkommunion-wilflingen/
LOCATION:St. Gallus Wilflingen
END:VEVENT
BEGIN:VEVENT
DTSTART;TZID=Europe/Berlin:20260405T103000
DTEND;TZID=Europe/Berlin:20260405T113000
DTSTAMP:20260421T110913
CREATED:20260211T082849Z
LAST-MODIFIED:20260211T082849Z
UID:10001079-1775385000-1775388600@se-abba.de
SUMMARY:Hochamt (Wilflingen)
DESCRIPTION:
URL:https://se-abba.de/termin/hochamt-wilflingen-5/
LOCATION:St. Gallus Wilflingen
END:VEVENT
BEGIN:VEVENT
DTSTART;TZID=Europe/Berlin:20260404T180000
DTEND;TZID=Europe/Berlin:20260404T190000
DTSTAMP:20260421T110913
CREATED:20260211T082849Z
LAST-MODIFIED:20260211T082849Z
UID:10001078-1775325600-1775329200@se-abba.de
SUMMARY:Osternacht - Wortgottesfeier (Wilflingen)
DESCRIPTION:
URL:https://se-abba.de/termin/osternacht-wortgottesfeier-wilflingen/
LOCATION:St. Gallus Wilflingen
END:VEVENT
BEGIN:VEVENT
DTSTART;TZID=Europe/Berlin:20260403T090000
DTEND;TZID=Europe/Berlin:20260403T100000
DTSTAMP:20260421T110913
CREATED:20260211T082849Z
LAST-MODIFIED:20260211T082849Z
UID:10001077-1775206800-1775210400@se-abba.de
SUMMARY:Karliturgie (Wilflingen)
DESCRIPTION:
URL:https://se-abba.de/termin/karliturgie-wilflingen/
LOCATION:St. Gallus Wilflingen
END:VEVENT
BEGIN:VEVENT
DTSTART;TZID=Europe/Berlin:20260328T183000
DTEND;TZID=Europe/Berlin:20260328T193000
DTSTAMP:20260421T110913
CREATED:20260211T082849Z
LAST-MODIFIED:20260211T082849Z
UID:10001076-1774722600-1774726200@se-abba.de
SUMMARY:Eucharistiefeier (Wilflingen)
DESCRIPTION:
URL:https://se-abba.de/termin/eucharistiefeier-wilflingen-22/
LOCATION:St. Gallus Wilflingen
END:VEVENT
BEGIN:VEVENT
DTSTART;TZID=Europe/Berlin:20260327T180000
DTEND;TZID=Europe/Berlin:20260327T190000
DTSTAMP:20260421T110913
CREATED:20260313T090955Z
LAST-MODIFIED:20260313T091007Z
UID:10001126-1774634400-1774638000@se-abba.de
SUMMARY:Fastenandacht in Wilflingen (im Pfarrhaus)
DESCRIPTION:
URL:https://se-abba.de/termin/fastenandacht-in-wilflingen-im-pfarrhaus-2/
LOCATION:St. Gallus Wilflingen
CATEGORIES:Begegnung
END:VEVENT
BEGIN:VEVENT
DTSTART;TZID=Europe/Berlin:20260322T090000
DTEND;TZID=Europe/Berlin:20260322T100000
DTSTAMP:20260421T110913
CREATED:20260211T082835Z
LAST-MODIFIED:20260211T082835Z
UID:10001075-1774170000-1774173600@se-abba.de
SUMMARY:Wortgottes- mit Bußfeier (Wilflingen)
DESCRIPTION:
URL:https://se-abba.de/termin/wortgottes-mit-bussfeier-wilflingen/
LOCATION:St. Gallus Wilflingen
END:VEVENT
BEGIN:VEVENT
DTSTART;TZID=Europe/Berlin:20260315T103000
DTEND;TZID=Europe/Berlin:20260315T113000
DTSTAMP:20260421T110913
CREATED:20260211T082835Z
LAST-MODIFIED:20260211T082835Z
UID:10001074-1773570600-1773574200@se-abba.de
SUMMARY:Eucharistiefeier (Wilflingen)
DESCRIPTION:
URL:https://se-abba.de/termin/eucharistiefeier-wilflingen-21/
LOCATION:St. Gallus Wilflingen
END:VEVENT
BEGIN:VEVENT
DTSTART;TZID=Europe/Berlin:20260313T180000
DTEND;TZID=Europe/Berlin:20260313T190000
DTSTAMP:20260421T110913
CREATED:20260227T104314Z
LAST-MODIFIED:20260227T104807Z
UID:10001113-1773424800-1773428400@se-abba.de
SUMMARY:Fastenandacht in Wilflingen (im Pfarrhaus)
DESCRIPTION:
URL:https://se-abba.de/termin/fastenandacht-in-wilflingen-im-pfarrhaus/
LOCATION:St. Gallus Wilflingen
CATEGORIES:Gottesdienst
END:VEVENT
BEGIN:VEVENT
DTSTART;TZID=Europe/Berlin:20260308T090000
DTEND;TZID=Europe/Berlin:20260308T100000
DTSTAMP:20260421T110913
CREATED:20260211T082835Z
LAST-MODIFIED:20260211T082835Z
UID:10001073-1772960400-1772964000@se-abba.de
SUMMARY:Eucharistiefeier (Wilflingen)
DESCRIPTION:
URL:https://se-abba.de/termin/eucharistiefeier-wilflingen-20/
LOCATION:St. Gallus Wilflingen
END:VEVENT
BEGIN:VEVENT
DTSTART;TZID=Europe/Berlin:20260228T183000
DTEND;TZID=Europe/Berlin:20260228T193000
DTSTAMP:20260421T110913
CREATED:20260211T082834Z
LAST-MODIFIED:20260211T082834Z
UID:10001072-1772303400-1772307000@se-abba.de
SUMMARY:Eucharistiefeier (Wilflingen)
DESCRIPTION:
URL:https://se-abba.de/termin/eucharistiefeier-wilflingen-19/
LOCATION:St. Gallus Wilflingen
END:VEVENT
BEGIN:VEVENT
DTSTART;TZID=Europe/Berlin:20260221T183000
DTEND;TZID=Europe/Berlin:20260221T193000
DTSTAMP:20260421T110913
CREATED:20260211T082834Z
LAST-MODIFIED:20260211T082834Z
UID:10001071-1771698600-1771702200@se-abba.de
SUMMARY:Eucharistiefeier mit Aschebestreuung (Wilflingen
DESCRIPTION:
URL:https://se-abba.de/termin/eucharistiefeier-mit-aschebestreuung-wilflingen/
LOCATION:St. Gallus Wilflingen
END:VEVENT
BEGIN:VEVENT
DTSTART;TZID=Europe/Berlin:20260215T100000
DTEND;TZID=Europe/Berlin:20260215T110000
DTSTAMP:20260421T110913
CREATED:20251111T092433Z
LAST-MODIFIED:20251111T092433Z
UID:10000926-1771149600-1771153200@se-abba.de
SUMMARY:Fasnetsmesse (Wilfingen)
DESCRIPTION:
URL:https://se-abba.de/termin/fasnetsmesse-wilfingen/
LOCATION:St. Gallus Wilflingen
END:VEVENT
BEGIN:VEVENT
DTSTART;TZID=Europe/Berlin:20260208T090000
DTEND;TZID=Europe/Berlin:20260208T100000
DTSTAMP:20260421T110913
CREATED:20251111T092433Z
LAST-MODIFIED:20251111T092433Z
UID:10000925-1770541200-1770544800@se-abba.de
SUMMARY:Eucharistiefeier (Wilflingen)
DESCRIPTION:
URL:https://se-abba.de/termin/eucharistiefeier-wilflingen-18/
LOCATION:St. Gallus Wilflingen
END:VEVENT
BEGIN:VEVENT
DTSTART;TZID=Europe/Berlin:20260131T183000
DTEND;TZID=Europe/Berlin:20260131T193000
DTSTAMP:20260421T110913
CREATED:20251111T092233Z
LAST-MODIFIED:20251111T092233Z
UID:10000924-1769884200-1769887800@se-abba.de
SUMMARY:Eucharistiefeier mit Blasiussegen (Wilflingen)
DESCRIPTION:
URL:https://se-abba.de/termin/eucharistiefeier-mit-blasiussegen-wilflingen/
LOCATION:St. Gallus Wilflingen
END:VEVENT
BEGIN:VEVENT
DTSTART;TZID=Europe/Berlin:20260124T183000
DTEND;TZID=Europe/Berlin:20260124T193000
DTSTAMP:20260421T110913
CREATED:20251111T092232Z
LAST-MODIFIED:20251111T092232Z
UID:10000923-1769279400-1769283000@se-abba.de
SUMMARY:Eucharistiefeier (Wilflingen)
DESCRIPTION:
URL:https://se-abba.de/termin/eucharistiefeier-wilflingen-17/
LOCATION:St. Gallus Wilflingen
END:VEVENT
BEGIN:VEVENT
DTSTART;TZID=Europe/Berlin:20260118T103000
DTEND;TZID=Europe/Berlin:20260118T113000
DTSTAMP:20260421T110913
CREATED:20251111T092232Z
LAST-MODIFIED:20251111T092232Z
UID:10000922-1768732200-1768735800@se-abba.de
SUMMARY:Eucharistiefeier (Wilflingen)
DESCRIPTION:
URL:https://se-abba.de/termin/eucharistiefeier-wilflingen-16/
LOCATION:St. Gallus Wilflingen
END:VEVENT
BEGIN:VEVENT
DTSTART;TZID=Europe/Berlin:20260111T103000
DTEND;TZID=Europe/Berlin:20260111T113000
DTSTAMP:20260421T110913
CREATED:20251111T092232Z
LAST-MODIFIED:20251111T092232Z
UID:10000921-1768127400-1768131000@se-abba.de
SUMMARY:Eucharistiefeier (Wilflingen)
DESCRIPTION:
URL:https://se-abba.de/termin/eucharistiefeier-wilflingen-15/
LOCATION:St. Gallus Wilflingen
END:VEVENT
BEGIN:VEVENT
DTSTART;TZID=Europe/Berlin:20260104T090000
DTEND;TZID=Europe/Berlin:20260104T100000
DTSTAMP:20260421T110913
CREATED:20251111T092232Z
LAST-MODIFIED:20251111T092232Z
UID:10000920-1767517200-1767520800@se-abba.de
SUMMARY:Wortgottesfeier (Wilflingen)
DESCRIPTION:
URL:https://se-abba.de/termin/wortgottesfeier-wilflingen-5/
LOCATION:St. Gallus Wilflingen
END:VEVENT
BEGIN:VEVENT
DTSTART;TZID=Europe/Berlin:20251228T103000
DTEND;TZID=Europe/Berlin:20251228T113000
DTSTAMP:20260421T110913
CREATED:20251111T085254Z
LAST-MODIFIED:20251111T085254Z
UID:10000859-1766917800-1766921400@se-abba.de
SUMMARY:Wortgottesfeier mit Kindersegnung (Wilflingen)
DESCRIPTION:
URL:https://se-abba.de/termin/wortgottesfeier-mit-kindersegnung-wilflingen/
LOCATION:St. Gallus Wilflingen
END:VEVENT
BEGIN:VEVENT
DTSTART;TZID=Europe/Berlin:20251226T090000
DTEND;TZID=Europe/Berlin:20251226T100000
DTSTAMP:20260421T110913
CREATED:20251111T085253Z
LAST-MODIFIED:20251111T085253Z
UID:10000855-1766739600-1766743200@se-abba.de
SUMMARY:Hochamt (Wilflingen)
DESCRIPTION:
URL:https://se-abba.de/termin/hochamt-wilflingen-4/
LOCATION:St. Gallus Wilflingen
END:VEVENT
BEGIN:VEVENT
DTSTART;TZID=Europe/Berlin:20251224T160000
DTEND;TZID=Europe/Berlin:20251224T170000
DTSTAMP:20260421T110913
CREATED:20251111T085224Z
LAST-MODIFIED:20251111T085224Z
UID:10000847-1766592000-1766595600@se-abba.de
SUMMARY:Eucharistiefeier (Wilflingen)
DESCRIPTION:
URL:https://se-abba.de/termin/eucharistiefeier-wilflingen-14/
LOCATION:St. Gallus Wilflingen
END:VEVENT
BEGIN:VEVENT
DTSTART;TZID=Europe/Berlin:20251221T103000
DTEND;TZID=Europe/Berlin:20251221T113000
DTSTAMP:20260421T110913
CREATED:20251111T085201Z
LAST-MODIFIED:20251111T085201Z
UID:10000838-1766313000-1766316600@se-abba.de
SUMMARY:Eucharistie- mit Bußfeier (Wilflingen)
DESCRIPTION:
URL:https://se-abba.de/termin/eucharistie-mit-bussfeier-wilflingen/
LOCATION:St. Gallus Wilflingen
END:VEVENT
BEGIN:VEVENT
DTSTART;TZID=Europe/Berlin:20251214T090000
DTEND;TZID=Europe/Berlin:20251214T100000
DTSTAMP:20260421T110913
CREATED:20251111T084527Z
LAST-MODIFIED:20251111T084527Z
UID:10000826-1765702800-1765706400@se-abba.de
SUMMARY:Eucharistiefeier (Wilflingen)
DESCRIPTION:
URL:https://se-abba.de/termin/eucharistiefeier-wilflingen-13/
LOCATION:St. Gallus Wilflingen
END:VEVENT
BEGIN:VEVENT
DTSTART;TZID=Europe/Berlin:20251206T183000
DTEND;TZID=Europe/Berlin:20251206T193000
DTSTAMP:20260421T110913
CREATED:20251111T083820Z
LAST-MODIFIED:20251111T083820Z
UID:10000808-1765045800-1765049400@se-abba.de
SUMMARY:Eucharistiefeier (Wilflingen)
DESCRIPTION:
URL:https://se-abba.de/termin/eucharistiefeier-wilflingen-12/
LOCATION:St. Gallus Wilflingen
END:VEVENT
BEGIN:VEVENT
DTSTART;TZID=Europe/Berlin:20251130T090000
DTEND;TZID=Europe/Berlin:20251130T100000
DTSTAMP:20260421T110913
CREATED:20251111T083804Z
LAST-MODIFIED:20251111T083804Z
UID:10000800-1764493200-1764496800@se-abba.de
SUMMARY:Wortgottesfeier (Wilflingen)
DESCRIPTION:
URL:https://se-abba.de/termin/wortgottesfeier-wilflingen-4/
LOCATION:St. Gallus Wilflingen
END:VEVENT
BEGIN:VEVENT
DTSTART;TZID=Europe/Berlin:20251123T103000
DTEND;TZID=Europe/Berlin:20251123T113000
DTSTAMP:20260421T110913
CREATED:20251009T122930Z
LAST-MODIFIED:20251009T122930Z
UID:10000745-1763893800-1763897400@se-abba.de
SUMMARY:Hochamt (Wilflingen)
DESCRIPTION:
URL:https://se-abba.de/termin/hochamt-wilflingen-3/
LOCATION:St. Gallus Wilflingen
END:VEVENT
BEGIN:VEVENT
DTSTART;TZID=Europe/Berlin:20251116T090000
DTEND;TZID=Europe/Berlin:20251116T100000
DTSTAMP:20260421T110913
CREATED:20251009T122930Z
LAST-MODIFIED:20251009T122930Z
UID:10000744-1763283600-1763287200@se-abba.de
SUMMARY:Eucharistiefeier (Wilflingen)
DESCRIPTION:
URL:https://se-abba.de/termin/eucharistiefeier-wilflingen-11/
LOCATION:St. Gallus Wilflingen
END:VEVENT
BEGIN:VEVENT
DTSTART;TZID=Europe/Berlin:20251111T173000
DTEND;TZID=Europe/Berlin:20251111T180000
DTSTAMP:20260421T110914
CREATED:20250923T072731Z
LAST-MODIFIED:20250923T072731Z
UID:10000651-1762882200-1762884000@se-abba.de
SUMMARY:St. Martinsfeier (Wilflingen)
DESCRIPTION:
URL:https://se-abba.de/termin/st-martinsfeier-wilflingen/
LOCATION:St. Gallus Wilflingen
CATEGORIES:Begegnung
END:VEVENT
END:VCALENDAR