BEGIN:VCALENDAR
VERSION:2.0
PRODID:-//Seelsorgeeinheit ABBA - ECPv6.15.11//NONSGML v1.0//EN
CALSCALE:GREGORIAN
METHOD:PUBLISH
X-WR-CALNAME:Seelsorgeeinheit ABBA
X-ORIGINAL-URL:https://se-abba.de
X-WR-CALDESC:Veranstaltungen für Seelsorgeeinheit ABBA
REFRESH-INTERVAL;VALUE=DURATION:PT1H
X-Robots-Tag:noindex
X-PUBLISHED-TTL:PT1H
BEGIN:VTIMEZONE
TZID:Europe/Berlin
BEGIN:DAYLIGHT
TZOFFSETFROM:+0100
TZOFFSETTO:+0200
TZNAME:CEST
DTSTART:20240331T010000
END:DAYLIGHT
BEGIN:STANDARD
TZOFFSETFROM:+0200
TZOFFSETTO:+0100
TZNAME:CET
DTSTART:20241027T010000
END:STANDARD
BEGIN:DAYLIGHT
TZOFFSETFROM:+0100
TZOFFSETTO:+0200
TZNAME:CEST
DTSTART:20250330T010000
END:DAYLIGHT
BEGIN:STANDARD
TZOFFSETFROM:+0200
TZOFFSETTO:+0100
TZNAME:CET
DTSTART:20251026T010000
END:STANDARD
BEGIN:DAYLIGHT
TZOFFSETFROM:+0100
TZOFFSETTO:+0200
TZNAME:CEST
DTSTART:20260329T010000
END:DAYLIGHT
BEGIN:STANDARD
TZOFFSETFROM:+0200
TZOFFSETTO:+0100
TZNAME:CET
DTSTART:20261025T010000
END:STANDARD
END:VTIMEZONE
BEGIN:VEVENT
DTSTART;TZID=Europe/Berlin:20250927T183000
DTEND;TZID=Europe/Berlin:20250927T193000
DTSTAMP:20260421T153927
CREATED:20250724T131040Z
LAST-MODIFIED:20250724T131040Z
UID:10000578-1758997800-1759001400@se-abba.de
SUMMARY:Eucharistiefeier Erntedank (Wilflingen)
DESCRIPTION:
URL:https://se-abba.de/termin/eucharistiefeier-erntedank-wilflingen/
LOCATION:St. Gallus Wilflingen
END:VEVENT
BEGIN:VEVENT
DTSTART;TZID=Europe/Berlin:20250921T090000
DTEND;TZID=Europe/Berlin:20250921T100000
DTSTAMP:20260421T153927
CREATED:20250724T131040Z
LAST-MODIFIED:20250724T131040Z
UID:10000577-1758445200-1758448800@se-abba.de
SUMMARY:Wortgottesfeier (Wilflingen)
DESCRIPTION:
URL:https://se-abba.de/termin/wortgottesfeier-wilflingen-2/
LOCATION:St. Gallus Wilflingen
END:VEVENT
BEGIN:VEVENT
DTSTART;TZID=Europe/Berlin:20250913T183000
DTEND;TZID=Europe/Berlin:20250913T193000
DTSTAMP:20260421T153927
CREATED:20250724T131026Z
LAST-MODIFIED:20250724T131026Z
UID:10000576-1757788200-1757791800@se-abba.de
SUMMARY:Hochamt (Wilflingen)
DESCRIPTION:
URL:https://se-abba.de/termin/hochamt-wilflingen-2/
LOCATION:St. Gallus Wilflingen
END:VEVENT
BEGIN:VEVENT
DTSTART;TZID=Europe/Berlin:20250831T103000
DTEND;TZID=Europe/Berlin:20250831T113000
DTSTAMP:20260421T153927
CREATED:20250711T065804Z
LAST-MODIFIED:20250711T065804Z
UID:10000546-1756636200-1756639800@se-abba.de
SUMMARY:Eucharistiefeier (Wilflingen)
DESCRIPTION:
URL:https://se-abba.de/termin/eucharistiefeier-wilflingen-6/
LOCATION:St. Gallus Wilflingen
END:VEVENT
BEGIN:VEVENT
DTSTART;TZID=Europe/Berlin:20250824T090000
DTEND;TZID=Europe/Berlin:20250824T100000
DTSTAMP:20260421T153927
CREATED:20250711T065804Z
LAST-MODIFIED:20250711T065804Z
UID:10000545-1756026000-1756029600@se-abba.de
SUMMARY:Wortgottesfeier (Wilflingen)
DESCRIPTION:
URL:https://se-abba.de/termin/wortgottesfeier-wilflingen/
LOCATION:St. Gallus Wilflingen
END:VEVENT
BEGIN:VEVENT
DTSTART;TZID=Europe/Berlin:20250816T183000
DTEND;TZID=Europe/Berlin:20250816T193000
DTSTAMP:20260421T153927
CREATED:20250711T065749Z
LAST-MODIFIED:20250711T065749Z
UID:10000544-1755369000-1755372600@se-abba.de
SUMMARY:Eucharistiefeier mit Kräuterweihe (Wilflingen)
DESCRIPTION:
URL:https://se-abba.de/termin/eucharistiefeier-mit-kraeuterweihe-wilflingen/
LOCATION:St. Gallus Wilflingen
END:VEVENT
BEGIN:VEVENT
DTSTART;TZID=Europe/Berlin:20250803T103000
DTEND;TZID=Europe/Berlin:20250803T113000
DTSTAMP:20260421T153927
CREATED:20250711T065749Z
LAST-MODIFIED:20250711T065749Z
UID:10000543-1754217000-1754220600@se-abba.de
SUMMARY:Eucharistiefeier (Wilflingen)
DESCRIPTION:
URL:https://se-abba.de/termin/eucharistiefeier-wilflingen-5/
LOCATION:St. Gallus Wilflingen
END:VEVENT
BEGIN:VEVENT
DTSTART;TZID=Europe/Berlin:20250629T090000
DTEND;TZID=Europe/Berlin:20250629T100000
DTSTAMP:20260421T153927
CREATED:20250601T053349Z
LAST-MODIFIED:20250601T053349Z
UID:10000425-1751187600-1751191200@se-abba.de
SUMMARY:Eucharistiefeier (Wilflingen)
DESCRIPTION:
URL:https://se-abba.de/termin/eucharistiefeier-wilflingen-4/
LOCATION:St. Gallus Wilflingen
CATEGORIES:Gottesdienst
END:VEVENT
BEGIN:VEVENT
DTSTART;TZID=Europe/Berlin:20250622T100000
DTEND;TZID=Europe/Berlin:20250622T110000
DTSTAMP:20260421T153927
CREATED:20250601T052702Z
LAST-MODIFIED:20250601T052702Z
UID:10000424-1750586400-1750590000@se-abba.de
SUMMARY:Wortgottesfeier an der Albvereinshütte (Wilflingen)
DESCRIPTION:
URL:https://se-abba.de/termin/wortgottesfeier-an-der-albvereinshuette-wilflingen/
LOCATION:St. Gallus Wilflingen
END:VEVENT
BEGIN:VEVENT
DTSTART;TZID=Europe/Berlin:20250619T090000
DTEND;TZID=Europe/Berlin:20250619T100000
DTSTAMP:20260421T153927
CREATED:20250601T052702Z
LAST-MODIFIED:20250601T052702Z
UID:10000423-1750323600-1750327200@se-abba.de
SUMMARY:Wortgottesfeier mit Prozession (Wilflingen)
DESCRIPTION:
URL:https://se-abba.de/termin/wortgottesfeier-mit-prozession-wilflingen/
LOCATION:St. Gallus Wilflingen
END:VEVENT
BEGIN:VEVENT
DTSTART;TZID=Europe/Berlin:20250609T103000
DTEND;TZID=Europe/Berlin:20250609T113000
DTSTAMP:20260421T153927
CREATED:20250601T052702Z
LAST-MODIFIED:20250601T052702Z
UID:10000422-1749465000-1749468600@se-abba.de
SUMMARY:Hochamt (Wilflingen)
DESCRIPTION:
URL:https://se-abba.de/termin/hochamt-wilflingen/
LOCATION:St. Gallus Wilflingen
END:VEVENT
BEGIN:VEVENT
DTSTART;TZID=Europe/Berlin:20250601T090000
DTEND;TZID=Europe/Berlin:20250601T100000
DTSTAMP:20260421T153927
CREATED:20250601T052318Z
LAST-MODIFIED:20250601T052647Z
UID:10000412-1748768400-1748772000@se-abba.de
SUMMARY:Eucharistiefeier (Wilflingen)
DESCRIPTION:
URL:https://se-abba.de/termin/eucharistiefeier-wilflingen-3/
LOCATION:St. Gallus Wilflingen
CATEGORIES:Gottesdienst
END:VEVENT
BEGIN:VEVENT
DTSTART;TZID=Europe/Berlin:20250524T183000
DTEND;TZID=Europe/Berlin:20250524T193000
DTSTAMP:20260421T153927
CREATED:20250411T090246Z
LAST-MODIFIED:20250411T090246Z
UID:10000309-1748111400-1748115000@se-abba.de
SUMMARY:Eucharistiefeier (Wilflingen)
DESCRIPTION:
URL:https://se-abba.de/termin/eucharistiefeier-wilflingen-2/
LOCATION:St. Gallus Wilflingen
END:VEVENT
BEGIN:VEVENT
DTSTART;TZID=Europe/Berlin:20250518T103000
DTEND;TZID=Europe/Berlin:20250518T113000
DTSTAMP:20260421T153927
CREATED:20250411T090246Z
LAST-MODIFIED:20250411T090246Z
UID:10000308-1747564200-1747567800@se-abba.de
SUMMARY:Eucharistiefeier (Wilflingen)
DESCRIPTION:
URL:https://se-abba.de/termin/eucharistiefeier-wilflingen/
LOCATION:St. Gallus Wilflingen
END:VEVENT
BEGIN:VEVENT
DTSTART;TZID=Europe/Berlin:20250511T090000
DTEND;TZID=Europe/Berlin:20250511T100000
DTSTAMP:20260421T153927
CREATED:20250411T090246Z
LAST-MODIFIED:20250411T090246Z
UID:10000307-1746954000-1746957600@se-abba.de
SUMMARY:Familiengottesdienst (Wilflingen)
DESCRIPTION:
URL:https://se-abba.de/termin/familiengottesdienst-wilflingen/
LOCATION:St. Gallus Wilflingen
END:VEVENT
BEGIN:VEVENT
DTSTART;TZID=Europe/Berlin:20250504T140000
DTEND;TZID=Europe/Berlin:20250504T150000
DTSTAMP:20260421T153927
CREATED:20250411T090246Z
LAST-MODIFIED:20250411T090246Z
UID:10000306-1746367200-1746370800@se-abba.de
SUMMARY:Maiandacht (Wilflingen)
DESCRIPTION:
URL:https://se-abba.de/termin/maiandacht-wilflingen/
LOCATION:St. Gallus Wilflingen
END:VEVENT
BEGIN:VEVENT
DTSTART;TZID=Europe/Berlin:20250427T103000
DTEND;TZID=Europe/Berlin:20250427T113000
DTSTAMP:20260421T153927
CREATED:20250314T072854Z
LAST-MODIFIED:20250314T072854Z
UID:10000127-1745749800-1745753400@se-abba.de
SUMMARY:Erstkommunion (St. Gallus)
DESCRIPTION:
URL:https://se-abba.de/termin/erstkommunion-st-gallus/
LOCATION:St. Gallus Wilflingen
END:VEVENT
BEGIN:VEVENT
DTSTART;TZID=Europe/Berlin:20250420T103000
DTEND;TZID=Europe/Berlin:20250420T113000
DTSTAMP:20260421T153927
CREATED:20250314T072854Z
LAST-MODIFIED:20250314T072854Z
UID:10000235-1745145000-1745148600@se-abba.de
SUMMARY:Hochamt (St. Gallus)
DESCRIPTION:
URL:https://se-abba.de/termin/hochamt-st-gallus-2/
LOCATION:St. Gallus Wilflingen
END:VEVENT
BEGIN:VEVENT
DTSTART;TZID=Europe/Berlin:20250419T180000
DTEND;TZID=Europe/Berlin:20250419T190000
DTSTAMP:20260421T153927
CREATED:20250314T072853Z
LAST-MODIFIED:20250314T072853Z
UID:10000234-1745085600-1745089200@se-abba.de
SUMMARY:Wortgottesfeier der Osternacht (St. Gallus)
DESCRIPTION:
URL:https://se-abba.de/termin/wortgottesfeier-der-osternacht-st-gallus/
LOCATION:St. Gallus Wilflingen
END:VEVENT
BEGIN:VEVENT
DTSTART;TZID=Europe/Berlin:20250418T150000
DTEND;TZID=Europe/Berlin:20250418T160000
DTSTAMP:20260421T153927
CREATED:20250314T072853Z
LAST-MODIFIED:20250314T072853Z
UID:10000233-1744988400-1744992000@se-abba.de
SUMMARY:Karfreitagsliturgie (St. Gallus)
DESCRIPTION:
URL:https://se-abba.de/termin/karfreitagsliturgie-st-gallus/
LOCATION:St. Gallus Wilflingen
END:VEVENT
BEGIN:VEVENT
DTSTART;TZID=Europe/Berlin:20250413T103000
DTEND;TZID=Europe/Berlin:20250413T113000
DTSTAMP:20260421T153927
CREATED:20250314T072853Z
LAST-MODIFIED:20250314T072853Z
UID:10000232-1744540200-1744543800@se-abba.de
SUMMARY:Eucharistiefeier (St. Gallus)
DESCRIPTION:
URL:https://se-abba.de/termin/eucharistiefeier-st-gallus-5/
LOCATION:St. Gallus Wilflingen
END:VEVENT
BEGIN:VEVENT
DTSTART;TZID=Europe/Berlin:20250406T090000
DTEND;TZID=Europe/Berlin:20250406T100000
DTSTAMP:20260421T153927
CREATED:20250314T072559Z
LAST-MODIFIED:20250314T072559Z
UID:10000229-1743930000-1743933600@se-abba.de
SUMMARY:Eucharistie- mit Bußfeier (St. Gallus)
DESCRIPTION:
URL:https://se-abba.de/termin/eucharistie-mit-bussfeier-st-gallus/
LOCATION:St. Gallus Wilflingen
END:VEVENT
BEGIN:VEVENT
DTSTART;TZID=Europe/Berlin:20250329T183000
DTEND;TZID=Europe/Berlin:20250329T193000
DTSTAMP:20260421T153927
CREATED:20250204T084041Z
LAST-MODIFIED:20250204T084041Z
UID:10000172-1743273000-1743276600@se-abba.de
SUMMARY:Eucharistiefeier (St. Gallus)
DESCRIPTION:
URL:https://se-abba.de/termin/eucharistiefeier-st-gallus-4/
LOCATION:St. Gallus Wilflingen
END:VEVENT
BEGIN:VEVENT
DTSTART;TZID=Europe/Berlin:20250323T090000
DTEND;TZID=Europe/Berlin:20250323T100000
DTSTAMP:20260421T153927
CREATED:20250204T084040Z
LAST-MODIFIED:20250204T084040Z
UID:10000171-1742720400-1742724000@se-abba.de
SUMMARY:Wortgottesfeier (St. Gallus)
DESCRIPTION:
URL:https://se-abba.de/termin/wortgottesfeier-st-gallus-4/
LOCATION:St. Gallus Wilflingen
END:VEVENT
BEGIN:VEVENT
DTSTART;TZID=Europe/Berlin:20250316T103000
DTEND;TZID=Europe/Berlin:20250316T113000
DTSTAMP:20260421T153927
CREATED:20250204T083840Z
LAST-MODIFIED:20250204T083840Z
UID:10000170-1742121000-1742124600@se-abba.de
SUMMARY:Eucharistiefeier (St. Gallus)
DESCRIPTION:
URL:https://se-abba.de/termin/eucharistiefeier-st-gallus-3/
LOCATION:St. Gallus Wilflingen
END:VEVENT
BEGIN:VEVENT
DTSTART;TZID=Europe/Berlin:20250309T090000
DTEND;TZID=Europe/Berlin:20250309T100000
DTSTAMP:20260421T153927
CREATED:20250204T083840Z
LAST-MODIFIED:20250204T083840Z
UID:10000169-1741510800-1741514400@se-abba.de
SUMMARY:Eucharistiefeier mit Aschebestreuung (St. Galluss)
DESCRIPTION:
URL:https://se-abba.de/termin/eucharistiefeier-mit-aschebestreuung-st-galluss/
LOCATION:St. Gallus Wilflingen
END:VEVENT
BEGIN:VEVENT
DTSTART;TZID=Europe/Berlin:20250302T103000
DTEND;TZID=Europe/Berlin:20250302T113000
DTSTAMP:20260421T153927
CREATED:20250204T083840Z
LAST-MODIFIED:20250204T083840Z
UID:10000168-1740911400-1740915000@se-abba.de
SUMMARY:Narrenmesse (St. Gallus)
DESCRIPTION:
URL:https://se-abba.de/termin/narrenmesse-st-gallus/
LOCATION:St. Gallus Wilflingen
END:VEVENT
BEGIN:VEVENT
DTSTART;TZID=Europe/Berlin:20250223T103000
DTEND;TZID=Europe/Berlin:20250223T113000
DTSTAMP:20260421T153927
CREATED:20241219T144127Z
LAST-MODIFIED:20241219T144127Z
UID:10000031-1740306600-1740310200@se-abba.de
SUMMARY:Eucharistiefeier (St. Gallus)
DESCRIPTION:
URL:https://se-abba.de/termin/eucharistiefeier-st-gallus-18/
LOCATION:St. Gallus Wilflingen
END:VEVENT
BEGIN:VEVENT
DTSTART;TZID=Europe/Berlin:20250216T103000
DTEND;TZID=Europe/Berlin:20250216T113000
DTSTAMP:20260421T153927
CREATED:20241219T144127Z
LAST-MODIFIED:20241219T144127Z
UID:10000033-1739701800-1739705400@se-abba.de
SUMMARY:Eucharistiefeier (St. Gallus)
DESCRIPTION:
URL:https://se-abba.de/termin/eucharistiefeier-st-gallus-17/
LOCATION:St. Gallus Wilflingen
END:VEVENT
BEGIN:VEVENT
DTSTART;TZID=Europe/Berlin:20250209T090000
DTEND;TZID=Europe/Berlin:20250209T100000
DTSTAMP:20260421T153927
CREATED:20241219T144113Z
LAST-MODIFIED:20241219T144113Z
UID:10000054-1739091600-1739095200@se-abba.de
SUMMARY:Eucharistiefeier (St. Gallus)
DESCRIPTION:
URL:https://se-abba.de/termin/eucharistiefeier-st-gallus-9/
LOCATION:St. Gallus Wilflingen
END:VEVENT
END:VCALENDAR